Workbook

Sheet Instructions
B2: INSTRUCTIONS
B3: Complete the Rapid Site Assessment Form per site.
B4: Complete the blue shaded blocks. Selecting the most appropriate answer from the drop-down lists.
B5: Use the guideline document for reference when selecting scores.
B6: When complete, review the graphs in the Results sheet.

Sheet Impact Form
A1: SITE ASSESSMENT FORM
A3: Section 1: Record of Insepction
A4: Site name: | D4: Example Site
A5: Site description: | D5: Example
A6: GPS Coordinates start of reach: (WGS84, decimal degree format)
A7: GPS Coordinates end of reach: (WGS84, decimal degree format)
A8: Date of Inspection: | D8: 29/12/2014
A9: Inspection number:
A10: Inspector name: | D10: Sam
A11: Weather on day of inspection?
A12: Weather 2 days prior?
A13: Does the site include? | D13: Bed only | E13: Left bank and bed | H13: Right bank and bed | K13: Both banks
A14: Is the reach of river near the? | D14: Source | E14: Foothills | H14: Flat lands | J14: Sea/estuary
A16: Section 2: Site Description
A18: Land use type and % cover | B18: Type and % cover: | D18: Left Flood Bank | J18: Right Flood Bank | N18: Indicator | O18: Measure options
B19: Land use Type | D19: Description | E19: % cover | J19: Description | K19: % Cover | N19: % of site covered | O19: 0-20% | P19: 21-50% | Q19: 51-80% | R19: 81-100%
B20: Agriculture | N20: Agriculture | O20: Dry | P20: Irrigated | Q20: Livestock | R20: Mix irrigated | S20: Mix dry
B21: Forestry | N21: Forestry | O21: Woodlot | P21: Indigenous | Q21: Plantation
B22: Education | N22: Education | O22: Fields | P22: No fields
B23: Mining | N23: Mining | O23: Surface | P23: Underground | Q23: Sand
B24: Recreational | D24: Open | E24: 81-100% | J24: Open | K24: 81-100% | N24: Recreational | O24: Open | P24: Closed | Q24: Government
B25: Commercial | N25: Commercial | O25: Commercial
B26: Industrial | N26: Industrial | O26: Heavy | P26: Light
B27: Residential | N27: Residential | O27: Low | P27: Medium | Q27: High
D29: Left Flood Bank | J29: Right Flood Bank
A30: Type of ground cover and % cover | B30: Ground cover type and % cover: | D30: Type | E30: % cover | J30: Type | K30: % cover | N30: Ground cover type and % cove | O30: %cover | P30: 0-30% | Q30: 30-60% | R30: 60-100%
B31: Dominant ground cover type | D31: Vegetated | E31: 60-100% | J31: Vegetated | K31: 60-100% | O31: Compacted soil | P31: Vegetated | Q31: Kikuyu grass | R31: Pervious | S31: Paved / impervious
B32: Other
B33: Other
B34: Other
B35: Other
D37: Left Flood Bank | G37: Active Channel | J37: Right Flood Bank
A38: Geomorphic character | B38: Height of vertical banks | D38: 2-4m | J38: 2-4m | N38: Height of vertical banks | O38: >4m | P38: 2-4m | Q38: 1-2m | R38: <1m | S38: None
B39: Channel substrate description | G39: Fine | N39: Substrate | O39: Fine | P39: Gravel mix | Q39: Coarse | R39: No sediment
D41: Left Flood Bank | G41: In-stream | J41: Right Flood Bank | N41: Type: Flood Banks | O41: Wild flowers | P41: Grasses | Q41: Reeds | R41: Shrubs | S41: Trees
D42: Type | E42: Cover | G42: Type | H42: Cover | J42: Type | K42: Cover | N42: Type: Instream | O42: Trees | P42: Filamentous | Q42: Free floating microscopic | R42: Free floating aquatic | S42: Rooted | T42: Reeds/Palmiet
A43: Riverine vegetation composition | B43: Dominant vegetation | D43: Reeds | E43: 80 – 100% cover | J43: Reeds | K43: 80 – 100% cover | N43: Cover | O43: 80 – 100% cover | P43: 60 – 80% cover | Q43: 30 – 60% cover | R43: 10 – 30% cover | S43: 0 – 10% cover | T43: No cover
B44: Other | D44: Trees | E44: 0 – 10% cover | J44: Trees | K44: 0 – 10% cover
B45: Other
A48: Section 3: Activites on the site
...

Sheet Impact score
A1: RAPID SITE ASSESSMENT CHECKLIST | C1: SITE
A2: Site description:
A3: GPS Coordinates start of reach:
A4: GPS Coordinates end of reach:
A5: Date of Inspection
A6: Inspector name:
A7: Weather on day of inspection?
A8: Weather 2 days prior?
A9: Does the site include? | C9: Bed only | D9: Left bank and bed | F9: Right bank and bed | G9: Both banks
A10: Is the reach of river near the? | C10: Source | D10: Foothills | F10: Flat lands | G10: Sea/estuary
A14: 1. Site Description
A15: Landuse type and % cover | B15: 1.1 Activity and % cover: | C15: Left Bank | E15: Channel | F15: Right Bank | I15: Include LB | J15: Include RB | L15: Indicator | M15: Measure option
B16: Activity | C16: Activity | D16: % cover | F16: Activity | G16: % Cover | L16: % of site covered | M16: 0-20% | N16: 21-50% | O16: 51-80% | P16: 81-100%
B17: Agriculture | C17: ='Impact Form'!D20 -> 0 | D17: ='Impact Form'!E20 -> 0 | F17: ='Impact Form'!J20 -> 0 | G17: ='Impact Form'!K20 -> 0 | L17: Agriculture | M17: Dry | N17: Irrigated | O17: Livestock | P17: Mix irrigated | Q17: Mix dry
B18: Forestry | C18: ='Impact Form'!D21 -> 0 | D18: ='Impact Form'!E21 -> 0 | F18: ='Impact Form'!J21 -> 0 | G18: ='Impact Form'!K21 -> 0 | L18: Forestry | M18: Woodlot | N18: Indigenous | O18: Plantation
B19: Education | C19: ='Impact Form'!D22 -> 0 | D19: ='Impact Form'!E22 -> 0 | F19: ='Impact Form'!J22 -> 0 | G19: ='Impact Form'!K22 -> 0 | L19: Education | M19: Fields | N19: No fields
B20: Mining | C20: ='Impact Form'!D23 -> 0 | D20: ='Impact Form'!E23 -> 0 | F20: ='Impact Form'!J23 -> 0 | G20: ='Impact Form'!K23 -> 0 | L20: Mining | M20: Surface | N20: Underground | O20: Sand
B21: Recreational | C21: ='Impact Form'!D24 -> Open | D21: ='Impact Form'!E24 -> 81-100% | F21: ='Impact Form'!J24 -> Open | G21: ='Impact Form'!K24 -> 81-100% | L21: Recreational | M21: Open | N21: Closed | O21: Government
B22: Commercial | C22: ='Impact Form'!D25 -> 0 | D22: ='Impact Form'!E25 -> 0 | F22: ='Impact Form'!J25 -> 0 | G22: ='Impact Form'!K25 -> 0 | L22: Commercial | M22: Commercial
B23: Industrial | C23: ='Impact Form'!D26 -> 0 | D23: ='Impact Form'!E26 -> 0 | F23: ='Impact Form'!J26 -> 0 | G23: ='Impact Form'!K26 -> 0 | L23: Industrial | M23: Heavy | N23: Light
B24: Residential | C24: ='Impact Form'!D27 -> 0 | D24: ='Impact Form'!E27 -> 0 | F24: ='Impact Form'!J27 -> 0 | G24: ='Impact Form'!K27 -> 0 | L24: Residential | M24: Low | N24: Medium | O24: High
A25: Type of ground cover and % cover | B25: 1.2 Ground cover type and % cover: | D25: % cover | G25: % cover | L25: Ground cover type and % cove | M25: 1.2 Ground cover | O25: 1.2 % ground cover
B26: Dominant | C26: =VLOOKUP('Impact Form'!D31,'Impact score'!M26:N31,2,FALSE) -> 0 | D26: =VLOOKUP('Impact Form'!E31,'Impact score'!O26:P29,2,FALSE) -> 1 | E26: =C26*D26 -> 0 | F26: =VLOOKUP('Impact Form'!J31,'Impact score'!M26:N31,2,FALSE) -> 0 | G26: =VLOOKUP('Impact Form'!K31,'Impact score'!O26:P29,2,FALSE) -> 1 | H26: =F26*G26 -> 0 | I26: =IFERROR(E26,"") -> 0 | J26: =IFERROR(H26,"") -> 0 | M26: Compacted soil | N26: 3 | O26: 0-30% | P26: 0.2
B27: Other | C27: =VLOOKUP('Impact Form'!D32,'Impact score'!M26:N31,2,FALSE) -> #N/A | D27: =VLOOKUP('Impact Form'!E32,'Impact score'!O26:P29,2,FALSE) -> #N/A | E27: =C27*D27 -> #N/A | F27: =VLOOKUP('Impact Form'!J32,'Impact score'!M26:N31,2,FALSE) -> #N/A | G27: =VLOOKUP('Impact Form'!K32,'Impact score'!O26:P29,2,FALSE) -> #N/A | H27: =F27*G27 -> #N/A | I27: =IFERROR(E27,"") | J27: =IFERROR(H27,"") | M27: Paved / impervious | N27: 4 | O27: 30-60% | P27: 0.5
B28: Other | C28: =VLOOKUP('Impact Form'!D33,'Impact score'!M26:N31,2,FALSE) -> NA | D28: =VLOOKUP('Impact Form'!E33,'Impact score'!O26:P29,2,FALSE) -> 0 | E28: =C28*D28 -> #VALUE! | F28: =VLOOKUP('Impact Form'!J33,'Impact score'!M26:N31,2,FALSE) -> NA | G28: =VLOOKUP('Impact Form'!K33,'Impact score'!O26:P29,2,FALSE) -> 0 | H28: =F28*G28 -> #VALUE! | I28: =IFERROR(E28,"") | J28: =IFERROR(H28,"") | M28: Pervious | N28: 2 | O28: 60-100% | P28: 1
B29: Other | C29: =VLOOKUP('Impact Form'!D34,'Impact score'!M26:N31,2,FALSE) -> NA | D29: =VLOOKUP('Impact Form'!E34,'Impact score'!O26:P29,2,FALSE) -> 0 | E29: =C29*D29 -> #VALUE! | F29: =VLOOKUP('Impact Form'!J34,'Impact score'!M26:N31,2,FALSE) -> NA | G29: =VLOOKUP('Impact Form'!K34,'Impact score'!O26:P29,2,FALSE) -> 0 | H29: =F29*G29 -> #VALUE! | I29: =IFERROR(E29,"") | J29: =IFERROR(H29,"") | M29: Kikuyu grass | N29: 1
B30: Other | C30: =VLOOKUP('Impact Form'!D35,'Impact score'!M26:N31,2,FALSE) -> NA | D30: =VLOOKUP('Impact Form'!E35,'Impact score'!O26:P29,2,FALSE) -> 0 | E30: =C30*D30 -> #VALUE! | F30: =VLOOKUP('Impact Form'!J35,'Impact score'!M26:N31,2,FALSE) -> NA | G30: =VLOOKUP('Impact Form'!K35,'Impact score'!O26:P29,2,FALSE) -> 0 | H30: =F30*G30 -> #VALUE! | I30: =IFERROR(E30,"") | J30: =IFERROR(H30,"") | M30: Vegetated | N30: 0
A31: Geomorphic character | B31: 1.3 Height of vertical banks | C31: ='Impact Form'!D38 -> 2-4m | F31: ='Impact Form'!J38 -> 2-4m | N31: NA
B32: 1.4 Channel substrate description | E32: ='Impact Form'!G39 -> Fine | L32: Height of vertical banks | M32: >4m | N32: 2-4m | O32: 1-2m | P32: <1m | Q32: None
A33: Riverine vegetation composition | B33: 1.5 Riverine vegetation composition | L33: Substrate | M33: Fine | N33: Gravel mix | O33: Coarse | P33: No sediment
B34: Banks | C34: Type | D34: Cover | F34: Type | G34: Cover | L34: Type: Flood Banks | M34: Wild flowers | N34: Grasses | O34: Reeds | P34: Shrubs | Q34: Trees
B35: Dominant species 1 | C35: ='Impact Form'!D43 -> Reeds | D35: ='Impact Form'!E43 -> 80 – 100% cover | F35: ='Impact Form'!J43 -> Reeds | G35: ='Impact Form'!K43 -> 80 – 100% cover | L35: Type: Instream | M35: Filamentous | N35: Free floating microscopic | O35: Free floating aquatic | P35: Rooted submerged | Q35: Reeds/Palmiet | R35: Trees
B36: Dominant species 2 | C36: ='Impact Form'!D44 -> Trees | D36: ='Impact Form'!E44 -> 0 – 10% cover | F36: ='Impact Form'!J44 -> Trees | G36: ='Impact Form'!K44 -> 0 – 10% cover | L36: Cover | M36: 80 – 100% cover | N36: 60 – 80% cover | O36: 30 – 60% cover | P36: 10 – 30% cover | Q36: 0 – 10% cover | R36: No cover
B37: Other | C37: ='Impact Form'!D45 -> 0 | D37: ='Impact Form'!E45 -> 0 | F37: ='Impact Form'!J45 -> 0 | G37: ='Impact Form'!K45 -> 0
B38: In-stream channel | C38: Type | D38: Cover
B39: Dominant species 1 | C39: ='Impact Form'!G43 -> 0 | D39: ='Impact Form'!H43 -> 0
B40: Dominant species 2 | C40: ='Impact Form'!G44 -> 0 | D40: ='Impact Form'!H44 -> 0
B41: Other | C41: ='Impact Form'!G45 -> 0 | D41: ='Impact Form'!H45 -> 0
A43: 2. Activites on site
A44: Which of the following activities are taking place on site? | D44: Y / N | M44: Yes | N44: No
...

Sheet Indicator weighting
A2: Indicator- Activity score | D2: Left Bank | AA2: Riverine Ecosystems Services: Active Channel | AX2: Right Bank
A3: Rapid Site Checklist | D3: Woody alien vegetation infestation | F3: Vegetation / site clearing | H3: Excavation /erosion | J3: Infilling / encroachment / impeding | L3: Discharge | N3: Bank stabilising | P3: Abstraction | R3: Impoundments | T3: diverting | V3: Structures | X3: Canalising / levess | AA3: Woody alien vegetation infestation | AC3: Vegetation / site clearing | AE3: Excavation /erosion | AG3: Infilling / encroachment / impeding | AI3: Discharge | AK3: Bank stabilising | AM3: Abstraction | AO3: Impoundments | AQ3: diverting | AS3: Structures | AU3: Canalising / levess | AX3: Woody alien vegetation infestation | AZ3: Vegetation / site clearing | BB3: Excavation /erosion | BD3: Infilling / encroachment /impeding | BF3: Discharge | BH3: Bank stabilising | BJ3: Abstraction | BL3: Impoundments | BN3: diverting | BP3: Structures | BR3: Canalising / levess
A4: site | B4: Ground cover | F4: =(SUM('Impact score'!I26:I30)/COUNT('Impact score'!I26:I30))*F42 -> 0 | G4: =IFERROR(F4,"") -> 0 | H4: =(SUM('Impact score'!I26:I30)/COUNT('Impact score'!I26:I30))*H42 -> 0 | I4: =IFERROR(H4,"") -> 0 | N4: =(SUM('Impact score'!I26:I30)/COUNT('Impact score'!I26:I30))*N42 -> 0 | O4: =IFERROR(N4,"") -> 0 | Y4: =IFERROR(X4,"") -> 0 | AZ4: =(SUM('Impact score'!J26:J30)/COUNT('Impact score'!J26:J30))*AZ42 -> 0 | BA4: =IFERROR(AZ4,"") -> 0 | BB4: =(SUM('Impact score'!J26:J30)/COUNT('Impact score'!J26:J30))*BB42 -> 0 | BC4: =IFERROR(BB4,"") -> 0 | BD4: =IFERROR(BC4,"") -> 0 | BH4: =(SUM('Impact score'!J26:J30)/COUNT('Impact score'!J26:J30))*BH42 -> 0 | BI4: =IFERROR(BH4,"") -> 0
B5: Erosion on site | H5: =('Impact score'!D59*H43) -> 0.15 | I5: =IFERROR(H5,"") -> 0.15 | BB5: =('Impact score'!H59*BB43) -> 0.15
B6: Alien Vegetation | D6: =('Impact score'!D60*D44) -> 5 | E6: =IFERROR(D6,"") -> 5 | AA6: =('Impact score'!F60*AA44) -> 3 | AB6: =IFERROR(AA6,"") -> 3 | AX6: =('Impact score'!H60*AX44) -> 5 | AY6: =IFERROR(AX6,"") -> 5
B7: Riparian zone | F7: =('Impact score'!D61*F45) -> 0 | G7: =IFERROR(F7,"") -> 0 | N7: =('Impact score'!D61*N45) -> 0 | O7: =IFERROR(N7,"") -> 0 | AC7: =('Impact score'!F61*AC45) -> 0 | AD7: =IFERROR(AC7,"") -> 0 | AK7: =('Impact score'!F61*'Indicator weighting'!AK45) -> 0 | AL7: =IFERROR(AK7,"") -> 0 | AU7: =('Impact score'!F61*AU45) -> 0 | AV7: =IFERROR(AU7,"") -> 0 | AZ7: =('Impact score'!H61*AZ45) -> 0 | BA7: =IFERROR(AZ7,"") -> 0 | BH7: =('Impact score'!H61*BH45) -> 0 | BI7: =IFERROR(BH7,"") -> 0
B8: Dumping & rubble | J8: =('Impact score'!D62*J46) -> 0 | K8: =IFERROR(J8,"") -> 0 | R8: =('Impact score'!D62*R46) -> 0 | S8: =IFERROR(R8,"") -> 0 | T8: =('Impact score'!D62*T46) -> 0 | U8: =IFERROR(T8,"") -> 0 | X8: =('Impact score'!D62*X46) -> 0 | Y8: =IFERROR(X8,"") -> 0 | AG8: =('Impact score'!F62*AG46) -> 0 | AH8: =IFERROR(AG8,"") -> 0 | AO8: =('Impact score'!F62*AO46) -> 0 | AP8: =IFERROR(AO8,"") -> 0 | AQ8: =('Impact score'!F62*AQ46) -> 0 | AR8: =IFERROR(AQ8,"") -> 0 | AU8: =('Impact score'!F62*AU46) -> 0 | AV8: =IFERROR(AU8,"") -> 0 | BD8: =('Impact score'!H62*BD46) -> 0 | BE8: =IFERROR(BD8,"") -> 0 | BL8: =('Impact score'!H62*BL46) -> 0 | BM8: =IFERROR(BL8,"") -> 0 | BN8: =('Impact score'!H62*BN46) -> 0 | BO8: =IFERROR(BN8,"") -> 0 | BR8: =('Impact score'!H62*BR46) -> 0 | BS8: =IFERROR(BR8,"") -> 0
B9: Litter | L9: =('Impact score'!D63*L47) -> 0.1 | M9: =IFERROR(L9,"") -> 0.1 | AI9: =('Impact score'!F63*AI47) -> 0.1 | AJ9: =IFERROR(AI9,"") -> 0.1 | BF9: =('Impact score'!H63*BF47) -> 0 | BG9: =IFERROR(BF9,"") -> 0
A10: Geomorphology | B10: Macro channel | H10: =('Impact score'!D64*H48) -> 0.9 | I10: =IFERROR(H10,"") -> 0.9 | K10: =IFERROR(J10,"") -> 0 | N10: =('Impact score'!D64*N48) -> 0.6 | O10: =IFERROR(N10,"") -> 0.6 | X10: =('Impact score'!D64*X48) -> 0.6 | Y10: =IFERROR(X10,"") -> 0.6 | BB10: =('Impact score'!H64*BB48) -> 0.9 | BC10: =IFERROR(BB10,"") -> 0.9 | BE10: =IFERROR(BD10,"") -> 0 | BH10: =('Impact score'!H64*BH48) -> 0.6 | BI10: =IFERROR(BH10,"") -> 0.6 | BR10: =('Impact score'!H64*BR48) -> 0.6 | BS10: =IFERROR(BR10,"") -> 0.6
B11: extenet cut banks | H11: =('Impact score'!D65*H49) -> 0.6 | I11: =IFERROR(H11,"") -> 0.6 | K11: =IFERROR(J11,"") -> 0 | N11: =('Impact score'!D65*N49) -> 0.2 | O11: =IFERROR(N11,"") -> 0.2 | X11: =('Impact score'!D65*X49) -> 0.2 | Y11: =IFERROR(X11,"") -> 0.2 | BB11: =('Impact score'!H65*BB49) -> 0.6 | BC11: =IFERROR(BB11,"") -> 0.6 | BE11: =IFERROR(BD11,"") -> 0 | BH11: =('Impact score'!H65*BH49) -> 0.2 | BI11: =IFERROR(BH11,"") -> 0.2 | BR11: =('Impact score'!H65*BR49) -> 0.2 | BS11: =IFERROR(BR11,"") -> 0.2
B12: bank armouring | J12: =('Impact score'!D66*J50) -> 0 | K12: =IFERROR(J12,"") -> 0 | N12: =('Impact score'!D66*N50) -> 0 | O12: =IFERROR(N12,"") -> 0 | X12: =('Impact score'!D66*X50) -> 0 | Y12: =IFERROR(X12,"") -> 0 | BD12: =('Impact score'!H66*BD50) -> 0.4 | BE12: =IFERROR(BD12,"") -> 0.4 | BH12: =('Impact score'!H66*BH50) -> 0.6 | BI12: =IFERROR(BH12,"") -> 0.6 | BR12: =('Impact score'!H66*BR50) -> 0.2 | BS12: =IFERROR(BR12,"") -> 0.2
B13: bed erosion | AE13: =('Impact score'!F67*AE51) -> 4 | AF13: =IFERROR(AE13,"") -> 4 | AK13: =('Impact score'!F67*AK51) -> 4 | AL13: =IFERROR(AK13,"") -> 4 | AU13: =('Impact score'!F67*AU51) -> 1.5 | AV13: =IFERROR(AU13,"") -> 1.5
A14: Hydrology | B14: discharge outlet | L14: =('Impact score'!D68*L52) -> 0 | M14: =IFERROR(L14,"") -> 0 | N14: =('Impact score'!D68*N52) -> 0 | O14: =IFERROR(N14,"") -> 0 | BF14: =('Impact score'!H68*BF52) -> 0 | BG14: =IFERROR(BF14,"") -> 0 | BH14: =('Impact score'!H68*BH52) -> 0 | BI14: =IFERROR(BH14,"") -> 0
B15: canalisation | J15: =('Impact score'!D69*J53) -> 0.4 | K15: =IFERROR(J15,"") -> 0.4 | N15: =('Impact score'!D69*N53) -> 0.2 | O15: =IFERROR(N15,"") -> 0.2 | T15: =('Impact score'!D69*T53) -> 0.7 | U15: =IFERROR(T15,"") -> 0.7 | X15: =('Impact score'!D69*X53) -> 0.6 | Y15: =IFERROR(X15,"") -> 0.6 | AQ15: =('Impact score'!F69*AQ53) -> 0 | AR15: =IFERROR(AQ15,"") -> 0 | AU15: =('Impact score'!F69*AU53) -> 0 | AV15: =IFERROR(AU15,"") -> 0 | BD15: =('Impact score'!H69*BD53) -> 0 | BE15: =IFERROR(BD15,"") -> 0 | BH15: =('Impact score'!H69*BH53) -> 0 | BI15: =IFERROR(BH15,"") -> 0 | BN15: =('Impact score'!H69*BN53) -> 0 | BO15: =IFERROR(BN15,"") -> 0 | BR15: =('Impact score'!H69*BR53) -> 0 | BS15: =IFERROR(BR15,"") -> 0
B16: Levees | J16: =('Impact score'!D70*J54) -> 0 | K16: =IFERROR(J16,"") -> 0 | N16: =('Impact score'!D70*N54) -> 0 | O16: =IFERROR(N16,"") -> 0 | T16: =('Impact score'!D70*T54) -> 0 | U16: =IFERROR(T16,"") -> 0 | V16: =('Impact score'!D70*V54) -> 0 | W16: =IFERROR(V16,"") -> 0 | X16: =('Impact score'!D70*X54) -> 0 | Y16: =IFERROR(X16,"") -> 0 | BD16: =('Impact score'!H70*BD54) -> 0 | BE16: =IFERROR(BD16,"") -> 0 | BH16: =('Impact score'!H70*BH54) -> 0 | BI16: =IFERROR(BH16,"") -> 0 | BN16: =('Impact score'!H70*BN54) -> 0 | BO16: =IFERROR(BN16,"") -> 0 | BP16: =('Impact score'!H70*BP54) -> 0 | BQ16: =IFERROR(BP16,"") -> 0 | BR16: =('Impact score'!H70*BR54) -> 0 | BS16: =IFERROR(BR16,"") -> 0
B17: abstraction | AM17: =('Impact score'!F71*AM55) -> 0 | AN17: =IFERROR(AM17,"") -> 0 | AQ17: =('Impact score'!F71*AQ55) -> 0 | AR17: =IFERROR(AQ17,"") -> 0
B18: impoundments | J18: =('Impact score'!D72*J56) -> 0 | K18: =IFERROR(J18,"") -> 0 | R18: =('Impact score'!D72*R56) -> 0 | S18: =IFERROR(R18,"") -> 0 | T18: =('Impact score'!D72*T56) -> 0 | U18: =IFERROR(T18,"") -> 0 | V18: =('Impact score'!D72*V56) -> 0 | W18: =IFERROR(V18,"") -> 0 | AG18: =('Impact score'!F72*AG56) -> 0 | AH18: =IFERROR(AG18,"") -> 0 | AO18: =('Impact score'!F72*AO56) -> 0 | AP18: =IFERROR(AO18,"") -> 0 | AQ18: =('Impact score'!F72*AQ56) -> 0 | AR18: =IFERROR(AQ18,"") -> 0 | AS18: =('Impact score'!F72*AS56) -> 0 | AT18: =IFERROR(AS18,"") -> 0 | BD18: =('Impact score'!H72*BD56) -> 0 | BE18: =IFERROR(BD18,"") -> 0 | BL18: =('Impact score'!H72*BL56) -> 0 | BM18: =IFERROR(BL18,"") -> 0 | BN18: =('Impact score'!H72*BN56) -> 0 | BO18: =IFERROR(BN18,"") -> 0 | BP18: =('Impact score'!H72*BP56) -> 0 | BQ18: =IFERROR(BP18,"") -> 0
B19: culverts/bridges | J19: =('Impact score'!D73*J57) -> 0.2 | K19: =IFERROR(J19,"") -> 0.2 | R19: =('Impact score'!D73*R57) -> 0.4 | S19: =IFERROR(R19,"") -> 0.4 | T19: =('Impact score'!D73*T57) -> 0.4 | U19: =IFERROR(T19,"") -> 0.4 | V19: =('Impact score'!D73*V57) -> 3.2 | W19: =IFERROR(V19,"") -> 3.2 | X19: =('Impact score'!D73*X57) -> 0.4 | Y19: =IFERROR(X19,"") -> 0.4 | AG19: =('Impact score'!F73*'Indicator weighting'!AG57) -> 0.4 | AH19: =IFERROR(AG19,"") -> 0.4 | AO19: =('Impact score'!F73*AO57) -> 0.4 | AP19: =IFERROR(AO19,"") -> 0.4 | AQ19: =('Impact score'!F73*AQ57) -> 0.4 | AR19: =IFERROR(AQ19,"") -> 0.4 | AS19: =('Impact score'!F73*AS57) -> 3.6 | AT19: =IFERROR(AS19,"") -> 3.6 | AU19: =('Impact score'!F73*AU57) -> 0.4 | AV19: =IFERROR(AU19,"") -> 0.4 | BD19: =('Impact score'!H73*BD57) -> 0.2 | BE19: =IFERROR(BD19,"") -> 0.2 | BL19: =('Impact score'!H73*BL57) -> 0.4 | BM19: =IFERROR(BL19,"") -> 0.4 | BN19: =('Impact score'!H73*BN57) -> 0.4 | BO19: =IFERROR(BN19,"") -> 0.4 | BP19: =('Impact score'!H73*BP57) -> 3.2 | BQ19: =IFERROR(BP19,"") -> 3.2 | BR19: =('Impact score'!H73*BR57) -> 0.4 | BS19: =IFERROR(BR19,"") -> 0.4
B20: flood debris | H20: =('Impact score'!D74*H58) -> 0.1 | I20: =IFERROR(H20,"") -> 0.1 | T20: =('Impact score'!D74*T58) -> 0.05 | U20: =IFERROR(T20,"") -> 0.05 | AE20: =('Impact score'!F74*AE58) -> 0.2 | AF20: =IFERROR(AE20,"") -> 0.2 | AG20: =('Impact score'!F74*'Indicator weighting'!AG58) -> 0.1 | AH20: =IFERROR(AG20,"") -> 0.1 | AQ20: =('Impact score'!F74*AQ58) -> 0.2 | AR20: =IFERROR(AQ20,"") -> 0.2 | BB20: =('Impact score'!H74*BB58) -> 0.1 | BC20: =IFERROR(BB20,"") -> 0.1 | BN20: =('Impact score'!H74*BN58) -> 0.1 | BO20: =IFERROR(BN20,"") -> 0.1
A21: Water Quality | B21: colour | AI21: =('Impact score'!F75*AI59) -> 0 | AJ21: =IFERROR(AI21,"") -> 0
B22: odour | AI22: =('Impact score'!F76*AI60) -> 0 | AJ22: =IFERROR(AI22,"") -> 0
B23: clarity: observed | AI23: =('Impact score'!F77*AI61) -> 0 | AJ23: =IFERROR(AI23,"") -> 0
B24: temperature | AC24: =('Impact score'!F78*AC62) -> 0 | AD24: =IFERROR(AC24,"") -> 0 | AI24: =('Impact score'!F78*AI62) -> 0 | AJ24: =IFERROR(AI24,"") -> 0
B25: foam | AI25: =('Impact score'!F79*AI63) -> 0 | AJ25: =IFERROR(AI25,"") -> 0
B26: Ph | AI26: =('Impact score'!F80*AI64) -> 0 | AJ26: =IFERROR(AI26,"") -> 0
B27: oily sheen | AI27: =('Impact score'!F81*AI65) -> 0 | AJ27: =IFERROR(AI27,"") -> 0
B28: nutrients | AI28: =('Impact score'!F82*AI66) -> 0.1 | AJ28: =IFERROR(AI28,"") -> 0.1
B29: oxygen | AI29: =('Impact score'!F83*AI67) -> 0 | AJ29: =IFERROR(AI29,"") -> 0
B30: indication of life | AI30: =('Impact score'!F84*AI68) -> 0.3 | AJ30: =IFERROR(AI30,"") -> 0.3
A31: Discharge | B31: colour | L31: =IFERROR('Impact score'!D85*L69,"") | M31: =IFERROR(L31,"") | BF31: =IFERROR('Impact score'!H85*BF69," ") | BG31: =IFERROR(BF31,"")
B32: odour | L32: =IFERROR('Impact score'!D86*L70,"") | M32: =IFERROR(L32,"") | BF32: =IFERROR('Impact score'!H86*BF70," ") | BG32: =IFERROR(BF32,"")
B33: foam | L33: =IFERROR('Impact score'!D87*L71,"") | M33: =IFERROR(L33,"") | BF33: =IFERROR('Impact score'!H87*BF71," ") | BG33: =IFERROR(BF33,"")
B34: oily sheen | L34: =IFERROR('Impact score'!D88*L72,"") | M34: =IFERROR(L34,"") | BF34: =IFERROR('Impact score'!H88*BF72," ") | BG34: =IFERROR(BF34,"")
B35: p.H | L35: =IFERROR('Impact score'!D89*L73,"") | M35: =IFERROR(L35,"") | BF35: =IFERROR('Impact score'!H89*BF73," ") | BG35: =IFERROR(BF35,"")
B36: temperature | L36: =IFERROR('Impact score'!D90*L74,"") | M36: =IFERROR(L36,"") | BF36: =IFERROR('Impact score'!H90*BF74," ") | BG36: =IFERROR(BF36,"")
C37: Total score | D37: =SUM(D4:D36) -> 5 | E37: =SUM(E4:E36) -> 5 | F37: =SUM(F4:F36) -> 0 | G37: =SUM(G4:G36) -> 0 | H37: =SUM(H4:H36) -> 1.75 | I37: =SUM(I4:I36) -> 1.75 | J37: =SUM(J4:J36) -> 0.6 | K37: =SUM(K4:K36) -> 0.6 | ... Y37: =SUM(Y4:Y36) -> 1.8 | AA37: =SUM(AA4:AA36) -> 3 | AB37: =SUM(AB4:AB36) -> 3 | AC37: =SUM(AC4:AC36) -> 0 | AD37: =SUM(AD4:AD36) -> 0 | AE37: =SUM(AE4:AE36) -> 4.2 | AF37: =SUM(AF4:AF36) -> 4.2 | AG37: =SUM(AG4:AG36) -> 0.5 | AH37: =SUM(AH4:AH36) -> 0.5 | ... AV37: =SUM(AV4:AV36) -> 1.9 | AX37: =SUM(AX4:AX36) -> 5 | AY37: =SUM(AY4:AY36) -> 5 | AZ37: =SUM(AZ4:AZ36) -> 0 | BA37: =SUM(BA4:BA36) -> 0 | BB37: =SUM(BB4:BB36) -> 1.75 | BC37: =SUM(BC4:BC36) -> 1.6 | BD37: =SUM(BD4:BD36) -> 0.6 | BE37: =SUM(BE4:BE36) -> 0.6 | ... BS37: =SUM(BS4:BS36) -> 1.4
C38: No. indicators | D38: =COUNT(D4:D36) -> 1 | E38: =COUNT(E4:E36) -> 1 | F38: =COUNT(F4:F36) -> 2 | G38: =COUNT(G4:G36) -> 2 | H38: =COUNT(H4:H36) -> 5 | I38: =COUNT(I4:I36) -> 5 | J38: =COUNT(J4:J36) -> 6 | K38: =COUNT(K4:K36) -> 8 | ... Y38: =COUNT(Y4:Y36) -> 8 | AA38: =COUNT(AA4:AA36) -> 1 | AB38: =COUNT(AB4:AB36) -> 1 | AC38: =COUNT(AC4:AC36) -> 2 | AD38: =COUNT(AD4:AD36) -> 2 | AE38: =COUNT(AE4:AE36) -> 2 | AF38: =COUNT(AF4:AF36) -> 2 | AG38: =COUNT(AG4:AG36) -> 4 | AH38: =COUNT(AH4:AH36) -> 4 | ... AV38: =COUNT(AV4:AV36) -> 5 | AX38: =COUNT(AX4:AX36) -> 1 | AY38: =COUNT(AY4:AY36) -> 1 | AZ38: =COUNT(AZ4:AZ36) -> 2 | BA38: =COUNT(BA4:BA36) -> 2 | BB38: =COUNT(BB4:BB36) -> 5 | BC38: =COUNT(BC4:BC36) -> 4 | BD38: =COUNT(BD4:BD36) -> 7 | BE38: =COUNT(BE4:BE36) -> 8 | ... BS38: =COUNT(BS4:BS36) -> 7
A40: Indicator-Weighting | D40: Flood Zone / bank | AA40: Active Channel | AX40: Flood Zone / bank
D41: Woody alien vegetation infestation | F41: Vegetation / site clearing | H41: Excavation /erosion | J41: Infilling / encroachment / impeding | L41: Discharge | N41: Bank stabilising | P41: Abstraction | R41: Impoundments | T41: Diverting | V41: Structures | X41: Canalising / levess | AA41: Woody alien vegetation infestation | AC41: Vegetation / site clearing | AE41: Excavation /erosion | AG41: Infilling / encroachment / impeding | AI41: Discharge | AK41: Bank stabilising | AM41: Abstraction | AO41: Impoundments | AQ41: Diverting | AS41: Structures | AU41: Canalising / levess | AX41: Woody alien vegetation infestation | AZ41: Vegetation / site clearing | BB41: Excavation /erosion | BD41: Infilling / encroachment / impeding | BF41: Discharge | BH41: Bank stabilising | BJ41: Abstraction | BL41: Impoundments | BN41: Diverting | BP41: Structures | BR41: Canalising / levess
A42: Site | B42: Ground cover | F42: 0.8 | H42: 0.2 | N42: 0.1 | AZ42: 0.8 | BB42: 0.2 | BH42: 0.1
...

Sheet Function weighting
D1: Services | E1: Impact activities | F1: Woody alien vegetation infestation | G1: Vegetation / Site clearing (creation of lawns) | H1: Excavation and erosion | I1: Infilling, impeding and encroachment | J1: Discharge | K1: Bank stabilising | L1: Abstraction | M1: Impoundments (and decreased sediment loads) | N1: Diverting | O1: Structures Bridges, jetties, etc.) | P1: Canalising and levees | R1: Total
C2: Left Flood zone | D2: Flood attenuation | F2: =F29/100*'Indicator weighting'!E$37 -> 1 | G2: =G29/100*'Indicator weighting'!G$37 -> 0 | H2: =H29/100*'Indicator weighting'!I$37 -> -0.35 | I2: =I29/100*'Indicator weighting'!K$37 -> -0.09 | J2: =J29/100*'Indicator weighting'!M$37 -> 0 | K2: =K29/100*'Indicator weighting'!O$37 -> -0.1 | L2: =L29/100*'Indicator weighting'!Q$37 -> 0 | M2: =M29/100*'Indicator weighting'!S$37 -> 0.12 | N2: =N29/100*'Indicator weighting'!U$37 -> 0 | O2: =O29/100*'Indicator weighting'!W$37 -> 0.32 | P2: =P29/100*'Indicator weighting'!Y$37 -> -0.36 | R2: =SUMIF(F2:P2,"<0") -> -0.9 | T2: 0
D3: Sediment trapping | F3: =F30/100*'Indicator weighting'!E$37 -> 1 | G3: =G30/100*'Indicator weighting'!G$37 -> 0 | H3: =H30/100*'Indicator weighting'!I$37 -> -0.35 | I3: =I30/100*'Indicator weighting'!K$37 -> -0.09 | J3: =J30/100*'Indicator weighting'!M$37 -> 0 | K3: =K30/100*'Indicator weighting'!O$37 -> -0.1 | L3: =L30/100*'Indicator weighting'!Q$37 -> 0 | M3: =M30/100*'Indicator weighting'!S$37 -> 0.12 | N3: =N30/100*'Indicator weighting'!U$37 -> 0 | O3: =O30/100*'Indicator weighting'!W$37 -> 0.32 | P3: =P30/100*'Indicator weighting'!Y$37 -> -0.36 | R3: =SUMIF(F3:P3,"<0") -> -0.9 | T3: 0
D4: Habitat provision | F4: =F31/100*'Indicator weighting'!E$37 -> -1 | G4: =G31/100*'Indicator weighting'!G$37 -> 0 | H4: =H31/100*'Indicator weighting'!I$37 -> -0.35 | I4: =I31/100*'Indicator weighting'!K$37 -> -0.12 | J4: =J31/100*'Indicator weighting'!M$37 -> 0 | K4: =K31/100*'Indicator weighting'!O$37 -> -0.1 | L4: =L31/100*'Indicator weighting'!Q$37 -> 0 | M4: =M31/100*'Indicator weighting'!S$37 -> -0.08 | N4: =N31/100*'Indicator weighting'!U$37 -> -0.115 | O4: =O31/100*'Indicator weighting'!W$37 -> -0.32 | P4: =P31/100*'Indicator weighting'!Y$37 -> -0.36 | R4: =SUMIF(F4:P4,"<0") -> -2.445 | T4: 0
D5: Carbon storage | F5: =F33/100*'Indicator weighting'!E$37 -> -1 | G5: =G33/100*'Indicator weighting'!G$37 -> 0 | H5: =H33/100*'Indicator weighting'!I$37 -> -0.175 | I5: =I33/100*'Indicator weighting'!K$37 -> -0.06 | J5: =J33/100*'Indicator weighting'!M$37 -> 0 | K5: =K33/100*'Indicator weighting'!O$37 -> -0.1 | L5: =L33/100*'Indicator weighting'!Q$37 -> 0 | M5: =M33/100*'Indicator weighting'!S$37 -> 0.04 | N5: =N33/100*'Indicator weighting'!U$37 -> 0 | O5: =O33/100*'Indicator weighting'!W$37 -> 0 | P5: =P33/100*'Indicator weighting'!Y$37 -> -0.18 | R5: =SUMIF(F5:P5,"<0") -> -1.515 | T5: 0
D6: Water Quality | J6: =J32/100*'Indicator weighting'!M$37 -> 0 | R6: =SUMIF(F6:P6,"<0") -> 0 | T6: 0
D7: Aesthetic/recreational use | F7: =F34/100*'Indicator weighting'!E$37 -> -1 | G7: =G34/100*'Indicator weighting'!G$37 -> 0 | H7: =H34/100*'Indicator weighting'!I$37 -> -0.175 | I7: =I34/100*'Indicator weighting'!K$37 -> 0.06 | J7: =J34/100*'Indicator weighting'!M$37 -> 0 | K7: =K34/100*'Indicator weighting'!O$37 -> 0.1 | L7: =L34/100*'Indicator weighting'!Q$37 -> 0 | M7: =M34/100*'Indicator weighting'!S$37 -> 0.08 | N7: =N34/100*'Indicator weighting'!U$37 -> 0.115 | O7: =O34/100*'Indicator weighting'!W$37 -> 0.32 | P7: =P34/100*'Indicator weighting'!Y$37 -> 0 | R7: =SUMIF(F7:P7,"<0") -> -1.175 | T7: 0
D8: Subsistence/cultural use | F8: =F35/100*'Indicator weighting'!E$37 -> -2 | G8: =G35/100*'Indicator weighting'!G$37 -> 0 | H8: =H35/100*'Indicator weighting'!I$37 -> -0.175 | I8: =I35/100*'Indicator weighting'!K$37 -> -0.06 | J8: =J35/100*'Indicator weighting'!M$37 -> 0.02 | K8: =K35/100*'Indicator weighting'!O$37 -> 0 | L8: =L35/100*'Indicator weighting'!Q$37 -> 0 | M8: =M35/100*'Indicator weighting'!S$37 -> -0.08 | N8: =N35/100*'Indicator weighting'!U$37 -> -0.115 | O8: =O35/100*'Indicator weighting'!W$37 -> 0.32 | P8: =P35/100*'Indicator weighting'!Y$37 -> -0.18 | R8: =SUMIF(F8:P8,"<0") -> -2.61 | T8: 0
C9: Active Channel | D9: Flood attenuation | F9: =F36/100*'Indicator weighting'!AB$37 -> 0.6 | G9: =G36/100*'Indicator weighting'!AD$37 -> 0 | H9: =H36/100*'Indicator weighting'!AF$37 -> -0.84 | I9: =I36/100*'Indicator weighting'!AH$37 -> -0.05 | J9: =J36/100*'Indicator weighting'!AJ$37 -> 0 | K9: =K36/100*'Indicator weighting'!AL$37 -> -0.4 | L9: =L36/100*'Indicator weighting'!AN$37 -> 0 | M9: =M36/100*'Indicator weighting'!AP$37 -> 0.2 | N9: =N36/100*'Indicator weighting'!AR$37 -> 0 | O9: =O36/100*'Indicator weighting'!AT$37 -> 0.36 | P9: =P36/100*'Indicator weighting'!AV$37 -> -0.38 | R9: =SUMIF(F9:P9,"<0") -> -1.67 | T9: 0
D10: Sediment trapping | F10: =F37/100*'Indicator weighting'!AB$37 -> 0.6 | G10: =G37/100*'Indicator weighting'!AD$37 -> 0 | H10: =H37/100*'Indicator weighting'!AF$37 -> -0.84 | I10: =I37/100*'Indicator weighting'!AH$37 -> -0.05 | J10: =J37/100*'Indicator weighting'!AJ$37 -> 0 | K10: =K37/100*'Indicator weighting'!AL$37 -> -0.4 | L10: =L37/100*'Indicator weighting'!AN$37 -> 0 | M10: =M37/100*'Indicator weighting'!AP$37 -> 0.12 | N10: =N37/100*'Indicator weighting'!AR$37 -> 0 | O10: =O37/100*'Indicator weighting'!AT$37 -> 0.36 | P10: =P37/100*'Indicator weighting'!AV$37 -> -0.38 | R10: =SUMIF(F10:P10,"<0") -> -1.67 | T10: 0
D11: Water Quality | F11: =F38/100*'Indicator weighting'!AB$37 -> -0.3 | G11: =G38/100*'Indicator weighting'!AD$37 -> 0 | H11: =H38/100*'Indicator weighting'!AF$37 -> -0.42 | I11: =I38/100*'Indicator weighting'!AH$37 -> -0.05 | J11: =J38/100*'Indicator weighting'!AJ$37 -> -0.5 | K11: =K38/100*'Indicator weighting'!AL$37 -> 0 | L11: =L38/100*'Indicator weighting'!AN$37 -> 0 | M11: =M38/100*'Indicator weighting'!AP$37 -> -0.04 | N11: =N38/100*'Indicator weighting'!AR$37 -> 0 | O11: =O38/100*'Indicator weighting'!AT$37 -> 0 | P11: =P38/100*'Indicator weighting'!AV$37 -> 0 | R11: =SUMIF(F11:P11,"<0") -> -1.31 | T11: 0
D12: Aquatic habitat provision | F12: =F39/100*'Indicator weighting'!AB$37 -> -0.6 | G12: =G39/100*'Indicator weighting'!AD$37 -> 0 | H12: =H39/100*'Indicator weighting'!AF$37 -> -0.84 | I12: =I39/100*'Indicator weighting'!AH$37 -> -0.1 | J12: =J39/100*'Indicator weighting'!AJ$37 -> -0.1 | K12: =K39/100*'Indicator weighting'!AL$37 -> -0.4 | L12: =L39/100*'Indicator weighting'!AN$37 -> 0 | M12: =M39/100*'Indicator weighting'!AP$37 -> -0.2 | N12: =N39/100*'Indicator weighting'!AR$37 -> -0.06 | O12: =O39/100*'Indicator weighting'!AT$37 -> -0.36 | P12: =P39/100*'Indicator weighting'!AV$37 -> -0.38 | R12: =SUMIF(F12:P12,"<0") -> -3.04 | T12: 0
D13: Aesthetic/recreational use | F13: =F40/100*'Indicator weighting'!AB$37 -> -0.3 | G13: =G40/100*'Indicator weighting'!AD$37 -> 0 | H13: =H40/100*'Indicator weighting'!AF$37 -> -0.42 | I13: =I40/100*'Indicator weighting'!AH$37 -> -0.05 | J13: =J40/100*'Indicator weighting'!AJ$37 -> 0 | K13: =K40/100*'Indicator weighting'!AL$37 -> 0.4 | L13: =L40/100*'Indicator weighting'!AN$37 -> 0 | M13: =M40/100*'Indicator weighting'!AP$37 -> 0.08 | N13: =N40/100*'Indicator weighting'!AR$37 -> 0.06 | O13: =O40/100*'Indicator weighting'!AT$37 -> 0.72 | P13: =P40/100*'Indicator weighting'!AV$37 -> 0.19 | R13: =SUMIF(F13:P13,"<0") -> -0.77 | T13: 0
D14: Subsistence/cultural use | F14: =F41/100*'Indicator weighting'!AB$37 -> -0.3 | G14: =G41/100*'Indicator weighting'!AD$37 -> 0 | H14: =H41/100*'Indicator weighting'!AF$37 -> -0.42 | I14: =I41/100*'Indicator weighting'!AH$37 -> -0.05 | J14: =J41/100*'Indicator weighting'!AJ$37 -> -0.2 | K14: =K41/100*'Indicator weighting'!AL$37 -> -0.4 | L14: =L41/100*'Indicator weighting'!AN$37 -> 0 | M14: =M41/100*'Indicator weighting'!AP$37 -> 0.16 | N14: =N41/100*'Indicator weighting'!AR$37 -> -0.06 | O14: =O41/100*'Indicator weighting'!AT$37 -> -0.36 | P14: =P41/100*'Indicator weighting'!AV$37 -> -0.19 | R14: =SUMIF(F14:P14,"<0") -> -1.98 | T14: 0
C15: Right Flood Zone | D15: Flood attenuation | F15: =F42/100*'Indicator weighting'!AY$37 -> 1 | G15: =G42/100*'Indicator weighting'!BA$37 -> 0 | H15: =H42/100*'Indicator weighting'!BC$37 -> -0.32 | I15: =I42/100*'Indicator weighting'!BE$37 -> -0.09 | J15: =J42/100*'Indicator weighting'!BG$37 -> 0 | K15: =K42/100*'Indicator weighting'!BI$37 -> -0.14 | L15: =L42/100*'Indicator weighting'!BK$37 -> 0 | M15: =M42/100*'Indicator weighting'!BM$37 -> 0.12 | N15: =N42/100*'Indicator weighting'!BO$37 -> 0 | O15: =O42/100*'Indicator weighting'!BQ$37 -> 0.32 | P15: =P42/100*'Indicator weighting'!BS$37 -> -0.28 | R15: =SUMIF(F15:P15,"<0") -> -0.83 | T15: 0
D16: Sediment trapping | F16: =F43/100*'Indicator weighting'!AY$37 -> 1 | G16: =G43/100*'Indicator weighting'!BA$37 -> 0 | H16: =H43/100*'Indicator weighting'!BC$37 -> -0.32 | I16: =I43/100*'Indicator weighting'!BE$37 -> -0.09 | J16: =J43/100*'Indicator weighting'!BG$37 -> 0 | K16: =K43/100*'Indicator weighting'!BI$37 -> -0.14 | L16: =L43/100*'Indicator weighting'!BK$37 -> 0 | M16: =M43/100*'Indicator weighting'!BM$37 -> 0.12 | N16: =N43/100*'Indicator weighting'!BO$37 -> 0 | O16: =O43/100*'Indicator weighting'!BQ$37 -> 0.32 | P16: =P43/100*'Indicator weighting'!BS$37 -> -0.28 | R16: =SUMIF(F16:P16,"<0") -> -0.83 | T16: 0
D17: Habitat provision | F17: =F44/100*'Indicator weighting'!AY$37 -> -1 | G17: =G44/100*'Indicator weighting'!BA$37 -> 0 | H17: =H44/100*'Indicator weighting'!BC$37 -> -0.32 | I17: =I44/100*'Indicator weighting'!BE$37 -> -0.12 | J17: =J44/100*'Indicator weighting'!BG$37 -> 0 | K17: =K44/100*'Indicator weighting'!BI$37 -> -0.14 | L17: =L44/100*'Indicator weighting'!BK$37 -> 0 | M17: =M44/100*'Indicator weighting'!BM$37 -> -0.08 | N17: =N44/100*'Indicator weighting'!BO$37 -> -0.05 | O17: =O44/100*'Indicator weighting'!BQ$37 -> -0.32 | P17: =P44/100*'Indicator weighting'!BS$37 -> -0.28 | R17: =SUMIF(F17:P17,"<0") -> -2.31 | T17: 0
D18: Water quality | J18: =J45/100*'Indicator weighting'!BG$37 -> 0 | R18: =SUMIF(F18:P18,"<0") -> 0 | T18: 0
D19: Carbon storage | F19: =F46/100*'Indicator weighting'!AY$37 -> -1 | G19: =G46/100*'Indicator weighting'!BA$37 -> 0 | H19: =H46/100*'Indicator weighting'!BC$37 -> -0.16 | I19: =I46/100*'Indicator weighting'!BE$37 -> -0.06 | J19: =J46/100*'Indicator weighting'!BG$37 -> 0 | K19: =K46/100*'Indicator weighting'!BI$37 -> -0.14 | L19: =L46/100*'Indicator weighting'!BK$37 -> 0 | M19: =M46/100*'Indicator weighting'!BM$37 -> 0.04 | N19: =N46/100*'Indicator weighting'!BO$37 -> 0 | O19: =O46/100*'Indicator weighting'!BQ$37 -> 0 | P19: =P46/100*'Indicator weighting'!BS$37 -> -0.14 | R19: =SUMIF(F19:P19,"<0") -> -1.5 | T19: 0
D20: Aesthetic/recreational use | F20: =F47/100*'Indicator weighting'!AY$37 -> -1 | G20: =G47/100*'Indicator weighting'!BA$37 -> 0 | H20: =H47/100*'Indicator weighting'!BC$37 -> -0.16 | I20: =I47/100*'Indicator weighting'!BE$37 -> 0.06 | J20: =J47/100*'Indicator weighting'!BG$37 -> 0 | K20: =K47/100*'Indicator weighting'!BI$37 -> 0.14 | L20: =L47/100*'Indicator weighting'!BK$37 -> 0 | M20: =M47/100*'Indicator weighting'!BM$37 -> 0.08 | N20: =N47/100*'Indicator weighting'!BO$37 -> 0.05 | O20: =O47/100*'Indicator weighting'!BQ$37 -> 0.32 | P20: =P47/100*'Indicator weighting'!BS$37 -> 0 | R20: =SUMIF(F20:P20,"<0") -> -1.16 | T20: 0
D21: Subsistence/cultural use | F21: =F48/100*'Indicator weighting'!AY$37 -> -2 | G21: =G48/100*'Indicator weighting'!BA$37 -> 0 | H21: =H48/100*'Indicator weighting'!BC$37 -> -0.16 | I21: =I48/100*'Indicator weighting'!BE$37 -> -0.06 | J21: =J48/100*'Indicator weighting'!BG$37 -> 0 | K21: =K48/100*'Indicator weighting'!BI$37 -> 0 | L21: =L48/100*'Indicator weighting'!BK$37 -> 0 | M21: =M48/100*'Indicator weighting'!BM$37 -> -0.08 | N21: =N48/100*'Indicator weighting'!BO$37 -> -0.05 | O21: =O48/100*'Indicator weighting'!BQ$37 -> 0.32 | P21: =P48/100*'Indicator weighting'!BS$37 -> -0.14 | R21: =SUMIF(F21:P21,"<0") -> -2.49 | T21: 0
D23: Most important - weight these 2-3 times more than other indicators
C24: recreational use includes walking, fishing, rowing/canoeing, sailing, swimming but not birding.
C25: cultural use refers to use of wood for firewood, reeds for weaving
C27: Matrix 2: Relationship of activities to riverine functions | E27: Activities | F27: Alien /invasive vegetation infestation | G27: Vegetation / Site clearing (creation of lawns) | H27: Excavation and erosion | I27: Infilling, impeding and encroachment | J27: Discharge | K27: Bank stabilising | L27: Abstraction | M27: Impoundments (and decreased sediment loads) | N27: Diverting | O27: Structures Bridges, jetties, etc.) | P27: Canalising, levees and channel modification
C28: Riverine functions
C29: Left Flood zone | D29: Flood attenuation | F29: 20 | G29: -20 | H29: -20 | I29: -15 | J29: 0 | K29: -10 | L29: 0 | M29: 30 | N29: 0 | O29: 10 | P29: -20
D30: Sediment trapping | F30: 20 | G30: -20 | H30: -20 | I30: -15 | J30: 0 | K30: -10 | L30: 0 | M30: 30 | N30: 0 | O30: 10 | P30: -20
D31: Habitat provision | F31: -20 | G31: -20 | H31: -20 | I31: -20 | J31: 0 | K31: -10 | L31: 0 | M31: -20 | N31: -10 | O31: -10 | P31: -20
D32: Water Quality
D33: Carbon storage | F33: -20 | G33: -20 | H33: -10 | I33: -10 | J33: 0 | K33: -10 | L33: 0 | M33: 10 | N33: 0 | O33: 0 | P33: -10
D34: Aesthetic/recreational use | F34: -20 | G34: 20 | H34: -10 | I34: 10 | J34: 0 | K34: 10 | L34: 0 | M34: 20 | N34: 10 | O34: 10 | P34: 0
D35: Subsistence/cultural use | F35: -40 | G35: -40 | H35: -10 | I35: -10 | J35: 20 | K35: 0 | L35: 0 | M35: -20 | N35: -10 | O35: 10 | P35: -10
C36: Active Channel | D36: Flood attenuation | F36: 20 | G36: =IF(OR('Impact score'!C39="Reeds/Palmiet", 'Impact score'!C40="Reeds/Palmiet"),-20,IF(OR('Impact score'!C39="trees",'Impact score'!C40="Trees"),-10,0)) -> 0 | H36: -20 | I36: -10 | J36: 0 | K36: -10 | L36: 0 | M36: 50 | N36: 0 | O36: 10 | P36: -20
D37: Sediment trapping | F37: 20 | G37: =IF(OR('Impact score'!C39="Reeds/Palmiet", 'Impact score'!C40="Reeds/Palmiet"),-20,IF(OR('Impact score'!C39="trees",'Impact score'!C40="Trees"),-10,0)) -> 0 | H37: -20 | I37: -10 | J37: 0 | K37: -10 | L37: 0 | M37: 30 | N37: 0 | O37: 10 | P37: -20
D38: Water Quality | F38: -10 | G38: =IF(OR('Impact score'!C39="Reeds/Palmiet", 'Impact score'!C40="Reeds/Palmiet"),-10,0) -> 0 | H38: -10 | I38: -10 | J38: -100 | K38: 0 | L38: -10 | M38: -10 | N38: 0 | O38: 0 | P38: 0
D39: Aquatic habitat provision | F39: -20 | G39: =IF(OR('Impact score'!C39="Reeds/Palmiet", 'Impact score'!C40="Reeds/Palmiet"),-10,IF(OR('Impact score'!C39="trees",'Impact score'!C40="Trees"),10,0)) -> 0 | H39: -20 | I39: -20 | J39: -20 | K39: -10 | L39: -10 | M39: -50 | N39: -10 | O39: -10 | P39: -20
D40: Aesthetic/recreational use | F40: -10 | G40: 10 | H40: -10 | I40: -10 | J40: 0 | K40: 10 | L40: -10 | M40: 20 | N40: 10 | O40: 20 | P40: 10
D41: Subsistence/cultural use | F41: -10 | G41: -10 | H41: -10 | I41: -10 | J41: -40 | K41: -10 | L41: -20 | M41: 40 | N41: -10 | O41: -10 | P41: -10
C42: Right Flood Zone | D42: Flood attenuation | F42: 20 | G42: -20 | H42: -20 | I42: -15 | J42: 0 | K42: -10 | L42: 0 | M42: 30 | N42: 0 | O42: 10 | P42: -20
...

Sheet Dashboard
J50: ='Impact Form'!D4 -> Example Site
