Workbook

Sheet Instructions
B2: INSTRUCTIONS
B3: Complete the Rapid Site Assessment Form per site.
B4: Complete the blue shaded blocks. Selecting the most appropriate answer from the drop-down lists.
B5: Use the guideline document for reference when selecting scores.
B6: When complete, review the graphs in the Results sheet.

Sheet Impact Form
A1: SITE ASSESSMENT FORM
A3: Section 1: Record of Insepction
A4: Site name: | D4: Example Site
A5: Site description: | D5: Example
A6: GPS Coordinates start of reach: (WGS84, decimal degree format)
A7: GPS Coordinates end of reach: (WGS84, decimal degree format)
A8: Date of Inspection: | D8: 29/12/2014
A9: Inspection number:
A10: Inspector name: | D10: Sam
A11: Weather on day of inspection?
A12: Weather 2 days prior?
A13: Does the site include? | D13: Bed only | E13: Left bank and bed | H13: Right bank and bed | K13: Both banks
A14: Is the reach of river near the? | D14: Source | E14: Foothills | H14: Flat lands | J14: Sea/estuary
A16: Section 2: Site Description
A18: Land use type and % cover | B18: Type and % cover: | D18: Left Flood Bank | J18: Right Flood Bank | N18: Indicator | O18: Measure options
B19: Land use Type | D19: Description | E19: % cover | J19: Description | K19: % Cover | N19: % of site covered | O19: 0-20% | P19: 21-50% | Q19: 51-80% | R19: 81-100%
B20: Agriculture | N20: Agriculture | O20: Dry | P20: Irrigated | Q20: Livestock | R20: Mix irrigated | S20: Mix dry
B21: Forestry | N21: Forestry | O21: Woodlot | P21: Indigenous | Q21: Plantation
B22: Education | N22: Education | O22: Fields | P22: No fields
B23: Mining | N23: Mining | O23: Surface | P23: Underground | Q23: Sand
B24: Recreational | D24: Open | E24: 81-100% | J24: Open | K24: 81-100% | N24: Recreational | O24: Open | P24: Closed | Q24: Government
B25: Commercial | N25: Commercial | O25: Commercial
B26: Industrial | N26: Industrial | O26: Heavy | P26: Light
B27: Residential | N27: Residential | O27: Low | P27: Medium | Q27: High
D29: Left Flood Bank | J29: Right Flood Bank
A30: Type of ground cover and % cover | B30: Ground cover type and % cover: | D30: Type | E30: % cover | J30: Type | K30: % cover | N30: Ground cover type and % cove | O30: %cover | P30: 0-30% | Q30: 30-60% | R30: 60-100%
B31: Dominant ground cover type | D31: Vegetated | E31: 60-100% | J31: Vegetated | K31: 60-100% | O31: Compacted soil | P31: Vegetated | Q31: Kikuyu grass | R31: Pervious | S31: Paved / impervious
B32: Other
B33: Other
B34: Other
B35: Other
D37: Left Flood Bank | G37: Active Channel | J37: Right Flood Bank
A38: Geomorphic character | B38: Height of vertical banks | D38: 2-4m | J38: 2-4m | N38: Height of vertical banks | O38: >4m | P38: 2-4m | Q38: 1-2m | R38: <1m | S38: None
B39: Channel substrate description | G39: Fine | N39: Substrate | O39: Fine | P39: Gravel mix | Q39: Coarse | R39: No sediment
D41: Left Flood Bank | G41: In-stream | J41: Right Flood Bank | N41: Type: Flood Banks | O41: Wild flowers | P41: Grasses | Q41: Reeds | R41: Shrubs | S41: Trees
D42: Type | E42: Cover | G42: Type | H42: Cover | J42: Type | K42: Cover | N42: Type: Instream | O42: Trees | P42: Filamentous | Q42: Free floating microscopic | R42: Free floating aquatic | S42: Rooted | T42: Reeds/Palmiet
A43: Riverine vegetation composition | B43: Dominant vegetation | D43: Reeds | E43: 80 – 100% cover | J43: Reeds | K43: 80 – 100% cover | N43: Cover | O43: 80 – 100% cover | P43: 60 – 80% cover | Q43: 30 – 60% cover | R43: 10 – 30% cover | S43: 0 – 10% cover | T43: No cover
B44: Other | D44: Trees | E44: 0 – 10% cover | J44: Trees | K44: 0 – 10% cover
B45: Other
A48: Section 3: Activites on the site
A49: Which of the following activities are taking place on site? | E49: Yes / No | O49: Yes | P49: No
A50: Woody alien vegetation infestation | E50: Yes
A51: Vegetation / Site clearing
A52: Excavation / erosion (dredging, removal, etc. | E52: Yes
A53: Infilling, impeding, encroachment (includes depositing, dumping, storage)
A54: Discharge
A55: Bank stabilising / channel straightening | E55: Yes
A56: Abstraction/ stream flow reduction / transfers
A57: Impoundments (includes storage of water, dams, etc.)
A58: Diverting of stream flow (includes for irrigation)
A59: Structures (bridges, jetties, piers, stormwater outlets, etc.)
A60: Canalising / levees (flood prevention-banks)
A63: Section 4: Site Inspection Checklist
A65: Indicators | D65: Left Flood Bank | G65: Active Channel | J65: Right Flood Bank
A66: Site character | B66: 4.1 Erosion on site (out the channel) | D66: Rill | J66: Rill | N66: Erosion on site | O66: None | P66: Sheet | Q66: Rill | R66: Gully | S66: Donga
B67: 4.2 % vegetation is alien and/or invasive | D67: 60 – 100% AIP | G67: 11 – 40% AIP | J67: 60 – 100% AIP | N67: % invasive vegetation | O67: no AIP | P67: 1 -10 %AIP | Q67: 11 – 40% AIP | R67: 41 – 60% AIP | S67: 60 – 100% AIP | T67: No vegetation
B68: 4.3 Continuity of riverine zone | D68: continuous | G68: continuous | J68: continuous | N68: Continuity of riverine zone | O68: continuous | P68: fragmented | Q68: none
B69: 4.4 Dumping / rubble over 100m | D69: None | G69: None | J69: None | N69: Dumping / rubble | O69: None | P69: 0-10% | Q69: 10-25% | R69: 25-50% | S69: >50%
B70: 4.5 Pieces of litter over 100m | D70: 10 pieces | G70: 10 pieces | J70: None | N70: Litter | O70: None | P70: 10 pieces | Q70: 10-50 pieces | R70: >50 pieces
D72: Left Flood Bank | G72: Active Channel | J72: Right Flood Bank
A73: Erosion and armouring | B73: 4.6 Macro-channel bank erosion | D73: >20% of macro-channel bank length | J73: >20% of macro-channel bank length | N73: Macro-channel bank erosion | O73: None | P73: >5% of macro-channel bank length | Q73: >20% of macro-channel bank length | R73: >50% of macro-channel bank length
B74: 4.7 Extent of erosion of S-bend banks | D74: <10% | J74: <10% | N74: Extent of cut banks | O74: none | P74: <10% | Q74: 11-50% | R74: >50%
B75: 4.8 Bank armouring | D75: Vegetated | J75: Occasional | N75: Bank armouring | O75: Toe | P75: Occasional | Q75: Armoured | R75: Engineered | S75: Exposed soil | T75: Vegetated
B76: 4.9 Active channel bed erosion | G76: Deep incision | N76: Active channel bed erosion | O76: None | P76: Some incision | Q76: Deep incision
D78: Left Flood Bank | G78: Active Channel | J78: Right Flood Bank
A79: Hydrology | B79: 4.10 State of discharge outlets | D79: None | J79: None | N79: Discharge | O79: None | P79: Good | Q79: Poor
B80: 4.11 Canalisation / channelling | D80: Occasional | G80: Natural | J80: Natural | N80: Channelling | O80: Natural | P80: Deeply eroded (>2m) | Q80: Occasional | R80: Straightened
B81: 4.12 Levees / Flood prevention bank | D81: none | J81: none | N81: Levees | O81: >2m | P81: >1m | Q81: 0-1m | R81: none
B82: 4.13 Abstraction from watercouse | G82: None | N82: Abstraction | O82: None | P82: Domestic | Q82: Large
B83: 4.14 Impoundments | G83: None | N83: Impoundment | O83: None | P83: Temporary | Q83: Low flow | R83: Small, permanent | S83: Large, permanent
B84: 4.15 Culverts / bridges | G84: Culvert/drift | N84: Culverts | O84: None | P84: Bridge | Q84: Culvert/drift | R84: Intermediate
B85: 4.16 Flood debris | G85: None | N85: Flood debris | O85: Accumulated | P85: Scattered | Q85: None
G87: Active Channel
A88: In stream water quality | B88: 4.17 Colour | G88: Colourless | N88: Colour | O88: Not observed | P88: Colourless | Q88: Tea | R88: Unnatural | S88: Brown | T88: Black | U88: Grey | V88: Green
B89: 4.18 Odour | G89: No odour | N89: Odour | O89: Earthy | P89: No odour | Q89: Sewerage | R89: Pesticide | S89: Hydrocarbon
B90: 4.19 Clarity | G90: Transparent | N90: Clarity | O90: Transparent | P90: Clearish | Q90: Cloudy | R90: Dirty | S90: Poor clarity | T90: Not observed
B91: 4.20 Temperature | G91: Normal | N91: Temperature | O91: Normal | P91: Warm | Q91: Cold | R91: Not observed
B92: 4.21 Foam | G92: None | N92: Foam | O92: None | P92: Small | Q92: Large | R92: Not observed
B93: 4.22 pH | G93: Neutral | N93: pH | O93: Neutral | P93: Acidic | Q93: Alkaline | R93: Not tested
B94: 4.23 Hydrocarbon oily sheen | G94: None | N94: Hydrocarbon oily sheen | O94: None | P94: Small | Q94: Sheen | R94: Not observed
B95: 4.24 Nutrients | G95: Occasional | N95: Nutrients | O95: None | P95: Occasional | Q95: Excessive | R95: Not observed
B96: 4.25 Oxygen availability | G96: Oxygen available | N96: Oxygen | O96: Oxygen available | P96: Some anoxia | Q96: Anoxic conditions | R96: Not observed
B97: 4.26 Indication of life | G97: None observed | N97: Indication of life | O97: Life | P97: Dead | Q97: None observed | R97: Not tested
D99: Left Flood Bank | J99: Right Flood Bank | N99: Discharge
A100: If there is discharge from outlets | B100: 4.27 Colour | N100: Colour | O100: Colourless | P100: Tea | Q100: Unnatural | R100: Brown | S100: Black | T100: Milky | U100: Green | V100: Not observed
B101: 4.28 Odour | N101: Odour | O101: Earthy | P101: Hydrocarbon | Q101: Sewerage | R101: Pesticide | S101: Not observed
B102: 4.29 Foam | N102: Foam | O102: None | P102: Small | Q102: Large | R102: Not observed
B103: 4.30 Hydrocarbon oily sheen | N103: Hydrocarbon oily sheen | O103: None | P103: Small | Q103: Sheen | R103: Not observed
B104: 4.31 pH | N104: pH | O104: Neutral | P104: Acidic | Q104: Alkaline | R104: Not tested
B105: 4.32 Temperature | N105: Temperature | O105: Normal | P105: Warm | Q105: Cold | R105: Steam | S105: Not observed

Sheet Impact score
A1: RAPID SITE ASSESSMENT CHECKLIST | C1: SITE
A2: Site description:
A3: GPS Coordinates start of reach:
A4: GPS Coordinates end of reach:
A5: Date of Inspection
A6: Inspector name:
A7: Weather on day of inspection?
A8: Weather 2 days prior?
A9: Does the site include? | C9: Bed only | D9: Left bank and bed | F9: Right bank and bed | G9: Both banks
A10: Is the reach of river near the? | C10: Source | D10: Foothills | F10: Flat lands | G10: Sea/estuary
A14: 1. Site Description
A15: Landuse type and % cover | B15: 1.1 Activity and % cover: | C15: Left Bank | E15: Channel | F15: Right Bank | I15: Include LB | J15: Include RB | L15: Indicator | M15: Measure option
B16: Activity | C16: Activity | D16: % cover | F16: Activity | G16: % Cover | L16: % of site covered | M16: 0-20% | N16: 21-50% | O16: 51-80% | P16: 81-100%
B17: Agriculture | C17: ='Impact Form'!D20 -> 0 | D17: ='Impact Form'!E20 -> 0 | F17: ='Impact Form'!J20 -> 0 | G17: ='Impact Form'!K20 -> 0 | L17: Agriculture | M17: Dry | N17: Irrigated | O17: Livestock | P17: Mix irrigated | Q17: Mix dry
B18: Forestry | C18: ='Impact Form'!D21 -> 0 | D18: ='Impact Form'!E21 -> 0 | F18: ='Impact Form'!J21 -> 0 | G18: ='Impact Form'!K21 -> 0 | L18: Forestry | M18: Woodlot | N18: Indigenous | O18: Plantation
B19: Education | C19: ='Impact Form'!D22 -> 0 | D19: ='Impact Form'!E22 -> 0 | F19: ='Impact Form'!J22 -> 0 | G19: ='Impact Form'!K22 -> 0 | L19: Education | M19: Fields | N19: No fields
B20: Mining | C20: ='Impact Form'!D23 -> 0 | D20: ='Impact Form'!E23 -> 0 | F20: ='Impact Form'!J23 -> 0 | G20: ='Impact Form'!K23 -> 0 | L20: Mining | M20: Surface | N20: Underground | O20: Sand
B21: Recreational | C21: ='Impact Form'!D24 -> Open | D21: ='Impact Form'!E24 -> 81-100% | F21: ='Impact Form'!J24 -> Open | G21: ='Impact Form'!K24 -> 81-100% | L21: Recreational | M21: Open | N21: Closed | O21: Government
B22: Commercial | C22: ='Impact Form'!D25 -> 0 | D22: ='Impact Form'!E25 -> 0 | F22: ='Impact Form'!J25 -> 0 | G22: ='Impact Form'!K25 -> 0 | L22: Commercial | M22: Commercial
B23: Industrial | C23: ='Impact Form'!D26 -> 0 | D23: ='Impact Form'!E26 -> 0 | F23: ='Impact Form'!J26 -> 0 | G23: ='Impact Form'!K26 -> 0 | L23: Industrial | M23: Heavy | N23: Light
B24: Residential | C24: ='Impact Form'!D27 -> 0 | D24: ='Impact Form'!E27 -> 0 | F24: ='Impact Form'!J27 -> 0 | G24: ='Impact Form'!K27 -> 0 | L24: Residential | M24: Low | N24: Medium | O24: High
A25: Type of ground cover and % cover | B25: 1.2 Ground cover type and % cover: | D25: % cover | G25: % cover | L25: Ground cover type and % cove | M25: 1.2 Ground cover | O25: 1.2 % ground cover
B26: Dominant | C26: =VLOOKUP('Impact Form'!D31,'Impact score'!M26:N31,2,FALSE) -> 0 | D26: =VLOOKUP('Impact Form'!E31,'Impact score'!O26:P29,2,FALSE) -> 1 | E26: =C26*D26 -> 0 | F26: =VLOOKUP('Impact Form'!J31,'Impact score'!M26:N31,2,FALSE) -> 0 | G26: =VLOOKUP('Impact Form'!K31,'Impact score'!O26:P29,2,FALSE) -> 1 | H26: =F26*G26 -> 0 | I26: =IFERROR(E26,"") -> 0 | J26: =IFERROR(H26,"") -> 0 | M26: Compacted soil | N26: 3 | O26: 0-30% | P26: 0.2
B27: Other | C27: =VLOOKUP('Impact Form'!D32,'Impact score'!M26:N31,2,FALSE) -> #N/A | D27: =VLOOKUP('Impact Form'!E32,'Impact score'!O26:P29,2,FALSE) -> #N/A | E27: =C27*D27 -> #N/A | F27: =VLOOKUP('Impact Form'!J32,'Impact score'!M26:N31,2,FALSE) -> #N/A | G27: =VLOOKUP('Impact Form'!K32,'Impact score'!O26:P29,2,FALSE) -> #N/A | H27: =F27*G27 -> #N/A | I27: =IFERROR(E27,"") | J27: =IFERROR(H27,"") | M27: Paved / impervious | N27: 4 | O27: 30-60% | P27: 0.5
B28: Other | C28: =VLOOKUP('Impact Form'!D33,'Impact score'!M26:N31,2,FALSE) -> NA | D28: =VLOOKUP('Impact Form'!E33,'Impact score'!O26:P29,2,FALSE) -> 0 | E28: =C28*D28 -> #VALUE! | F28: =VLOOKUP('Impact Form'!J33,'Impact score'!M26:N31,2,FALSE) -> NA | G28: =VLOOKUP('Impact Form'!K33,'Impact score'!O26:P29,2,FALSE) -> 0 | H28: =F28*G28 -> #VALUE! | I28: =IFERROR(E28,"") | J28: =IFERROR(H28,"") | M28: Pervious | N28: 2 | O28: 60-100% | P28: 1
B29: Other | C29: =VLOOKUP('Impact Form'!D34,'Impact score'!M26:N31,2,FALSE) -> NA | D29: =VLOOKUP('Impact Form'!E34,'Impact score'!O26:P29,2,FALSE) -> 0 | E29: =C29*D29 -> #VALUE! | F29: =VLOOKUP('Impact Form'!J34,'Impact score'!M26:N31,2,FALSE) -> NA | G29: =VLOOKUP('Impact Form'!K34,'Impact score'!O26:P29,2,FALSE) -> 0 | H29: =F29*G29 -> #VALUE! | I29: =IFERROR(E29,"") | J29: =IFERROR(H29,"") | M29: Kikuyu grass | N29: 1
B30: Other | C30: =VLOOKUP('Impact Form'!D35,'Impact score'!M26:N31,2,FALSE) -> NA | D30: =VLOOKUP('Impact Form'!E35,'Impact score'!O26:P29,2,FALSE) -> 0 | E30: =C30*D30 -> #VALUE! | F30: =VLOOKUP('Impact Form'!J35,'Impact score'!M26:N31,2,FALSE) -> NA | G30: =VLOOKUP('Impact Form'!K35,'Impact score'!O26:P29,2,FALSE) -> 0 | H30: =F30*G30 -> #VALUE! | I30: =IFERROR(E30,"") | J30: =IFERROR(H30,"") | M30: Vegetated | N30: 0
A31: Geomorphic character | B31: 1.3 Height of vertical banks | C31: ='Impact Form'!D38 -> 2-4m | F31: ='Impact Form'!J38 -> 2-4m | N31: NA
B32: 1.4 Channel substrate description | E32: ='Impact Form'!G39 -> Fine | L32: Height of vertical banks | M32: >4m | N32: 2-4m | O32: 1-2m | P32: <1m | Q32: None
A33: Riverine vegetation composition | B33: 1.5 Riverine vegetation composition | L33: Substrate | M33: Fine | N33: Gravel mix | O33: Coarse | P33: No sediment
B34: Banks | C34: Type | D34: Cover | F34: Type | G34: Cover | L34: Type: Flood Banks | M34: Wild flowers | N34: Grasses | O34: Reeds | P34: Shrubs | Q34: Trees
B35: Dominant species 1 | C35: ='Impact Form'!D43 -> Reeds | D35: ='Impact Form'!E43 -> 80 – 100% cover | F35: ='Impact Form'!J43 -> Reeds | G35: ='Impact Form'!K43 -> 80 – 100% cover | L35: Type: Instream | M35: Filamentous | N35: Free floating microscopic | O35: Free floating aquatic | P35: Rooted submerged | Q35: Reeds/Palmiet | R35: Trees
B36: Dominant species 2 | C36: ='Impact Form'!D44 -> Trees | D36: ='Impact Form'!E44 -> 0 – 10% cover | F36: ='Impact Form'!J44 -> Trees | G36: ='Impact Form'!K44 -> 0 – 10% cover | L36: Cover | M36: 80 – 100% cover | N36: 60 – 80% cover | O36: 30 – 60% cover | P36: 10 – 30% cover | Q36: 0 – 10% cover | R36: No cover
B37: Other | C37: ='Impact Form'!D45 -> 0 | D37: ='Impact Form'!E45 -> 0 | F37: ='Impact Form'!J45 -> 0 | G37: ='Impact Form'!K45 -> 0
B38: In-stream channel | C38: Type | D38: Cover
B39: Dominant species 1 | C39: ='Impact Form'!G43 -> 0 | D39: ='Impact Form'!H43 -> 0
B40: Dominant species 2 | C40: ='Impact Form'!G44 -> 0 | D40: ='Impact Form'!H44 -> 0
B41: Other | C41: ='Impact Form'!G45 -> 0 | D41: ='Impact Form'!H45 -> 0
A43: 2. Activites on site
A44: Which of the following activities are taking place on site? | D44: Y / N | M44: Yes | N44: No
A45: Woody alien vegetation infestation | D45: ='Impact Form'!E50 -> Yes
A46: Vegetation / Site clearing | D46: ='Impact Form'!E51 -> 0
A47: Excavation / erosion (includes, dredging, removal, etc.) | D47: ='Impact Form'!E52 -> Yes
A48: Infilling, impeding, encroachment (includes despoiting, storage) | D48: ='Impact Form'!E53 -> 0
A49: Discharge | D49: ='Impact Form'!E54 -> 0
A50: Bank stabilising / channel straightening | D50: ='Impact Form'!E55 -> Yes
A51: Abstration/ stream flow reduction / transfers | D51: ='Impact Form'!E56 -> 0
A52: Impoundments (includes storage of water, dams, etc.) | D52: ='Impact Form'!E57 -> 0
A53: Diverting of stream flow (includes for irrigation) | D53: ='Impact Form'!E58 -> 0
A54: Structures (bridges, jetties, piers, stormwater outlets, etc.) | D54: ='Impact Form'!E59 -> 0
A55: Canalising / levees (flood prevention-banks) | D55: ='Impact Form'!E60 -> 0
A57: 3. Site Assessment
C58: Left Bank | E58: Channel | G58: Right bank | L58: 4.1 Erosion on site | O58: 4.8 Bank armouring | R58: 4.7 Extent of cut banks | U58: 4.4 Dumping | X58: 4.2 Alieng vegetation cover
A59: Site Character | B59: 4.1 Erosion on site (out the channel) | C59: =VLOOKUP('Impact Form'!D66,'Impact score'!L59:M63,2,FALSE) -> 1.5 | D59: =IFERROR(C59,"") -> 1.5 | G59: =VLOOKUP('Impact Form'!J66,'Impact score'!L59:M63,2,FALSE) -> 1.5 | H59: =IFERROR(G59,"") -> 1.5 | L59: None | M59: 0 | O59: Toe | P59: 1 | R59: none | S59: 0 | U59: None | V59: 0 | X59: no AIP | Y59: 0
B60: 4.2 % vegetation is Alien | C60: =VLOOKUP('Impact Form'!D67,'Impact score'!X59:Y64,2,FALSE) -> 5 | D60: =IFERROR(C60,"") -> 5 | E60: =VLOOKUP('Impact Form'!G67,'Impact score'!X59:Y65,2,FALSE) -> 3 | F60: =IFERROR(E60,"") -> 3 | G60: =VLOOKUP('Impact Form'!J67,'Impact score'!X59:Y64,2,FALSE) -> 5 | H60: =IFERROR(G60,"") -> 5 | L60: Sheet | M60: 1 | O60: Occasional | P60: 2 | R60: <10% | S60: 2 | U60: 0-10% | V60: 1 | X60: 1 -10 %AIP | Y60: 2
B61: 4.3 Continuity of riverine zone | C61: =VLOOKUP('Impact Form'!D68,'Impact score'!X67:Y69,2,FALSE) -> 0 | D61: =IFERROR(C61,"") -> 0 | E61: =VLOOKUP('Impact Form'!G68,'Impact score'!X67:Y69,2,FALSE) -> 0 | F61: =IFERROR(E61,"") -> 0 | G61: =VLOOKUP('Impact Form'!J68,'Impact score'!X67:Y69,2,FALSE) -> 0 | H61: =IFERROR(G61,"") -> 0 | L61: Rill | M61: 1.5 | O61: Armoured | P61: 4 | R61: 11-50% | S61: 3 | U61: 10-25% | V61: 2 | X61: 11 – 40% AIP | Y61: 3
B62: 4.4 Dumping / rubble | C62: =VLOOKUP('Impact Form'!D69,'Impact score'!U59:V63,2,FALSE) -> 0 | D62: =IFERROR(C62,"") -> 0 | E62: =VLOOKUP('Impact Form'!G69,'Impact score'!U59:V63,2,FALSE) -> 0 | F62: =IFERROR(E62,"") -> 0 | G62: =VLOOKUP('Impact Form'!J69,'Impact score'!U59:V63,2,FALSE) -> 0 | H62: =IFERROR(G62,"") -> 0 | L62: Gully | M62: 3 | O62: Engineered | P62: 5 | R62: >50% | S62: 5 | U62: 25-50% | V62: 3 | X62: 41 – 60% AIP | Y62: 4
B63: 4.5 Litter | C63: =VLOOKUP('Impact Form'!D70,'Impact score'!O72:P75,2,FALSE) -> 1 | D63: =IFERROR(C63,"") -> 1 | E63: =VLOOKUP('Impact Form'!G70,'Impact score'!O72:P75,2,FALSE) -> 1 | F63: =IFERROR(E63,"") -> 1 | G63: =VLOOKUP('Impact Form'!J70,'Impact score'!O72:P75,2,FALSE) -> 0 | H63: =IFERROR(G63,"") -> 0 | L63: Donga | M63: 5 | O63: Exposed soil | P63: 5 | U63: >50% | V63: 5 | X63: 60 – 100% AIP | Y63: 5
A64: Erosion and amouring | B64: 4.6 Macro-channel bank erosion | C64: =VLOOKUP('Impact Form'!D73,'Impact score'!L66:M69,2,FALSE) -> 3 | D64: =IFERROR(C64,"") -> 3 | F64: =IFERROR(E64,"") -> 0 | G64: =VLOOKUP('Impact Form'!J73,'Impact score'!L66:M69,2,FALSE) -> 3 | H64: =IFERROR(G64,"") -> 3 | O64: Vegetated | P64: 0 | X64: No vegetation | Y64: n/a
B65: 4.7 Extent of cutbanks | C65: =VLOOKUP('Impact Form'!D74,'Impact score'!R59:S63,2,FALSE) -> 2 | D65: =IFERROR(C65,"") -> 2 | F65: =IFERROR(E65,"") -> 0 | G65: =VLOOKUP('Impact Form'!J74,'Impact score'!R59:S63,2,FALSE) -> 2 | H65: =IFERROR(G65,"") -> 2 | L65: 4.6 Bank erosion | R65: 4.26 Life | U65: 4.24 Nutrients
B66: 4.8 Bank armouring | C66: =VLOOKUP('Impact Form'!D75,'Impact score'!O59:P64,2,FALSE) -> 0 | D66: =IFERROR(C66,"") -> 0 | F66: =IFERROR(E66,"") -> 0 | G66: =VLOOKUP('Impact Form'!J75,'Impact score'!O59:P64,2,FALSE) -> 2 | H66: =IFERROR(G66,"") -> 2 | L66: None | M66: 0 | O66: 4.9 Active channel bed erosion | R66: Life | S66: 0 | U66: None | V66: 0 | X66: 4.3 Continuity of riverine zone
B67: 4.9 Active channel bed erosion | D67: =IFERROR(C67,"") -> 0 | E67: =VLOOKUP('Impact Form'!G76,'Impact score'!O67:P69,2,FALSE) -> 5 | F67: =IFERROR(E67,"") -> 5 | H67: =IFERROR(G67,"") -> 0 | L67: >5% of macro-channel bank length | M67: 1 | O67: None | P67: 0 | R67: Dead | S67: 5 | U67: Occasional | V67: 1 | X67: continuous | Y67: 0
A68: Hydrology | B68: 4.10 State of discharge outlets | C68: =VLOOKUP('Impact Form'!D79,'Impact score'!L88:M91,2,FALSE) -> 0 | D68: =IFERROR(C68,"") -> 0 | F68: =IFERROR(E68,"") -> 0 | G68: =VLOOKUP('Impact Form'!J79,'Impact score'!L88:M91,2,FALSE) -> 0 | H68: =IFERROR(G68,"") -> 0 | L68: >20% of macro-channel bank length | M68: 3 | O68: Some incision | P68: 2 | R68: None observed | S68: 3 | U68: Excessive | V68: 5 | X68: fragmented | Y68: 3
B69: 4.11 Canalisation / channelling | C69: =VLOOKUP('Impact Form'!D80,'Impact score'!O87:P90,2,FALSE) -> 2 | D69: =IFERROR(C69,"") -> 2 | E69: =VLOOKUP('Impact Form'!G80,'Impact score'!O87:P90,2,FALSE) -> 0 | F69: =IFERROR(E69,"") -> 0 | G69: =VLOOKUP('Impact Form'!J80,'Impact score'!O87:P90,2,FALSE) -> 0 | H69: =IFERROR(G69,"") -> 0 | L69: >50% of macro-channel bank length | M69: 5 | O69: Deep incision | P69: 5 | R69: Not tested | S69: n/a | U69: Not observed | V69: n/a | X69: None | Y69: 5
B70: 4.12 Levees / Flood prevention banks | C70: =VLOOKUP('Impact Form'!D81,'Impact score'!R88:S91,2,FALSE) -> 0 | D70: =IFERROR(C70,"") -> 0 | F70: =IFERROR(E70,"") -> 0 | G70: =VLOOKUP('Impact Form'!J81,'Impact score'!R88:S91,2,FALSE) -> 0 | H70: =IFERROR(G70,"") -> 0
B71: 4.13 Abstraction from watercourse | D71: =IFERROR(C71,"") -> 0 | E71: =VLOOKUP('Impact Form'!G82,'Impact score'!U85:V87,2,FALSE) -> 0 | F71: =IFERROR(E71,"") -> 0 | H71: =IFERROR(G71,"") -> 0 | L71: 4.22 p.H | O71: 4.5 Litter | R71: 4.14 Impoundments | U71: 4.20 Temperature
B72: 4.14 Impoundments | C72: =E72 -> 0 | D72: =IFERROR(C72,"") -> 0 | E72: =VLOOKUP('Impact Form'!G83,'Impact score'!R72:S76,2,FALSE) -> 0 | F72: =IFERROR(E72,"") -> 0 | G72: =E72 -> 0 | H72: =IFERROR(G72,"") -> 0 | L72: Neutral | M72: 0 | O72: None | P72: 0 | R72: None | S72: 0 | U72: Normal | V72: 0 | X72: 4.25 Oxygen
B73: 4.15 Culverts / bridges | C73: =E73 -> 4 | D73: =IFERROR(C73,"") -> 4 | E73: =VLOOKUP('Impact Form'!G84,'Impact score'!U79:V82,2,FALSE) -> 4 | F73: =IFERROR(E73,"") -> 4 | G73: =E73 -> 4 | H73: =IFERROR(G73,"") -> 4 | L73: Acidic | M73: 5 | O73: 10 pieces | P73: 1 | R73: Temporary | S73: 1 | U73: Warm | V73: 5 | X73: Oxygen available | Y73: 0
B74: 4.16 Flood debris | C74: =E74 -> 1 | D74: =IFERROR(C74,"") -> 1 | E74: =VLOOKUP('Impact Form'!G85,'Impact score'!U90:V92,2,FALSE) -> 1 | F74: =IFERROR(E74,"") -> 1 | G74: =E74 -> 1 | H74: =IFERROR(G74,"") -> 1 | L74: Alkaline | M74: 5 | O74: 10-50 pieces | P74: 3 | R74: Low flow | S74: 2 | U74: Cold | V74: 5 | X74: Some anoxia | Y74: 1
A75: In stream water quality | B75: 4.17 Colour | E75: =VLOOKUP('Impact Form'!G88,'Impact score'!L77:M84,2,FALSE) -> 0 | F75: =IFERROR(E75,"") -> 0 | L75: Not tested | M75: n/a | O75: >50 pieces | P75: 5 | R75: Small, permanent | S75: 3 | U75: Not observed | V75: n/a | X75: Anoxic conditions | Y75: 5
B76: 4.18 Odour | E76: =VLOOKUP('Impact Form'!G89,'Impact score'!O78:P82,2,FALSE) -> 0 | F76: =IFERROR(E76,"") -> 0 | L76: 4.17 colour | R76: Large, permanent | S76: 5 | X76: Not observed | Y76: n/a
B77: 4.19 Clarity | E77: =VLOOKUP('Impact Form'!G90,'Impact score'!R79:S84,2,FALSE) -> 0 | F77: =IFERROR(E77,"") -> 0 | L77: Colourless | M77: 0 | O77: 4.18 Odour | Y77: n/a
B78: 4.20 Temperature | E78: =VLOOKUP('Impact Form'!G91,'Impact score'!U72:V76,2,FALSE) -> 0 | F78: =IFERROR(E78,"") -> 0 | L78: Tea | M78: 0 | O78: Earthy | P78: 0 | R78: 4.19 Clarity: | S78: Observed | U78: 4.15 Culverts/Bridge
B79: 4.21 Foam | E79: =VLOOKUP('Impact Form'!G92,'Impact score'!X86:Y89,2,FALSE) -> 0 | F79: =IFERROR(E79,"") -> 0 | L79: Unnatural | M79: 2 | O79: No odour | P79: 0 | R79: Transparent | S79: 0 | U79: None | V79: 0 | X79: 4.23 Hydrocarbon oily sheen
B80: 4.22 pH | E80: =VLOOKUP('Impact Form'!G93,'Impact score'!L72:M75,2,FALSE) -> 0 | F80: =IFERROR(E80,Z) -> 0 | L80: Brown | M80: 1 | O80: Sewerage | P80: 5 | R80: Clearish | S80: 1 | U80: Bridge | V80: 2 | X80: None | Y80: 0
B81: 4.23 Oily sheen | E81: =VLOOKUP('Impact Form'!G94,'Impact score'!X80:Y83,2,FALSE) -> 0 | F81: =IFERROR(E81,"") -> 0 | L81: Black | M81: 5 | O81: Pesticide | P81: 5 | R81: Cloudy | S81: 2 | U81: Culvert/drift | V81: 4 | X81: Small | Y81: 1
B82: 4.24 Nutrients | E82: =VLOOKUP('Impact Form'!G95,'Impact score'!U66:V69,2,FALSE) -> 1 | F82: =IFERROR(E82,"") -> 1 | L82: Grey | M82: 5 | O82: Hydrocarbon | P82: 5 | R82: Dirty | S82: 4 | U82: Intermediate | V82: 3 | X82: Sheen | Y82: 5
B83: 4.25 Oxygen availability | E83: =VLOOKUP('Impact Form'!G96,'Impact score'!X73:Y77,2,FALSE) -> 0 | F83: =IFERROR(E83,"' ") -> 0 | L83: Green | M83: 5 | P83: n/a | R83: Poor clarity | S83: 5 | X83: Not observed | Y83: n/a
B84: 4.26 Indication of life | E84: =VLOOKUP('Impact Form'!G97,'Impact score'!R66:S69,2,FALSE) -> 3 | F84: =IFERROR(E84,"") -> 3 | L84: Not observed | M84: n/a | R84: Not observed | S84: n/a | U84: 4.12 Abstraction
A85: If there is discharge from outlets | B85: 4.27 Colour | C85: =VLOOKUP('Impact Form'!D100,'Impact score'!L77:M85,2,FALSE) -> #N/A | D85: =IFERROR(C85,"") | G85: =VLOOKUP('Impact Form'!K100,'Impact score'!L77:M84,2,FALSE) -> #N/A | H85: =IFERROR(G85,"") | M85: n/a | U85: None | V85: 0 | X85: 4.21 Foam
B86: 4.28 Odour | C86: =VLOOKUP('Impact Form'!D101,'Impact score'!O78:P82,2,FALSE) -> #N/A | D86: =IFERROR(C86,"") | G86: =VLOOKUP('Impact Form'!K101,'Impact score'!O78:P82,2,FALSE) -> #N/A | H86: =IFERROR(G86,"") | O86: 4.11 Channelling | U86: Domestic | V86: 2 | X86: None | Y86: 0
B87: 4.29 Foam | C87: =VLOOKUP('Impact Form'!D102,'Impact score'!X86:Y89,2,FALSE) -> #N/A | D87: =IFERROR(C87,"") | G87: =VLOOKUP('Impact Form'!K102,'Impact score'!X86:Y89,2,FALSE) -> #N/A | H87: =IFERROR(G87,"") | L87: 4.10 Discharge outlet | O87: Natural | P87: 0 | R87: 4.12 Levees | U87: Large | V87: 5 | X87: Small | Y87: 2
B88: 4.30 Oily sheen | C88: =VLOOKUP('Impact Form'!D103,'Impact score'!X80:Y83,2,FALSE) -> #N/A | D88: =IFERROR(C88,"") | G88: =VLOOKUP('Impact Form'!K103,'Impact score'!X80:Y83,2,FALSE) -> #N/A | H88: =IFERROR(G88,"") | L88: None | M88: 0 | O88: Deeply eroded (>2m) | P88: 4 | R88: >2m | S88: 5 | X88: Large | Y88: 5
B89: 4.31 p.H | C89: =VLOOKUP('Impact Form'!D104,'Impact score'!L72:M75,2,FALSE) -> #N/A | D89: =IFERROR(C89,"") | G89: =VLOOKUP('Impact Form'!K104,'Impact score'!L72:M75,2,FALSE) -> #N/A | H89: =IFERROR(G89,"") | L89: Good | M89: 2 | O89: Occasional | P89: 2 | R89: >1m | S89: 2 | U89: 4.16 Flood Debris | X89: Not observed | Y89: n/a
B90: 4.32 Temperature | C90: =VLOOKUP('Impact Form'!D105,'Impact score'!U72:V76,2,FALSE) -> #N/A | D90: =IFERROR(C90,"") | G90: =VLOOKUP('Impact Form'!K105,'Impact score'!U72:V76,2,FALSE) -> #N/A | H90: =IFERROR(G90,"") | L90: Poor | M90: 5 | O90: Straightened | P90: 3 | R90: 0-1m | S90: 1 | U90: Accumulated | V90: 3
M91: n/a | R91: none | S91: 0 | U91: Scattered | V91: 0
U92: None | V92: 1

Sheet Indicator weighting
A2: Indicator- Activity score | D2: Left Bank | AA2: Riverine Ecosystems Services: Active Channel | AX2: Right Bank
A3: Rapid Site Checklist | D3: Woody alien vegetation infestation | F3: Vegetation / site clearing | H3: Excavation /erosion | J3: Infilling / encroachment / impeding | L3: Discharge | N3: Bank stabilising | P3: Abstraction | R3: Impoundments | T3: diverting | V3: Structures | X3: Canalising / levess | AA3: Woody alien vegetation infestation | AC3: Vegetation / site clearing | AE3: Excavation /erosion | AG3: Infilling / encroachment / impeding | AI3: Discharge | AK3: Bank stabilising | AM3: Abstraction | AO3: Impoundments | AQ3: diverting | AS3: Structures | AU3: Canalising / levess | AX3: Woody alien vegetation infestation | AZ3: Vegetation / site clearing | BB3: Excavation /erosion | BD3: Infilling / encroachment /impeding | BF3: Discharge | BH3: Bank stabilising | BJ3: Abstraction | BL3: Impoundments | BN3: diverting | BP3: Structures | BR3: Canalising / levess
A4: site | B4: Ground cover | F4: =(SUM('Impact score'!I26:I30)/COUNT('Impact score'!I26:I30))*F42 -> 0 | G4: =IFERROR(F4,"") -> 0 | H4: =(SUM('Impact score'!I26:I30)/COUNT('Impact score'!I26:I30))*H42 -> 0 | I4: =IFERROR(H4,"") -> 0 | N4: =(SUM('Impact score'!I26:I30)/COUNT('Impact score'!I26:I30))*N42 -> 0 | O4: =IFERROR(N4,"") -> 0 | Y4: =IFERROR(X4,"") -> 0 | AZ4: =(SUM('Impact score'!J26:J30)/COUNT('Impact score'!J26:J30))*AZ42 -> 0 | BA4: =IFERROR(AZ4,"") -> 0 | BB4: =(SUM('Impact score'!J26:J30)/COUNT('Impact score'!J26:J30))*BB42 -> 0 | BC4: =IFERROR(BB4,"") -> 0 | BD4: =IFERROR(BC4,"") -> 0 | BH4: =(SUM('Impact score'!J26:J30)/COUNT('Impact score'!J26:J30))*BH42 -> 0 | BI4: =IFERROR(BH4,"") -> 0
B5: Erosion on site | H5: =('Impact score'!D59*H43) -> 0.15 | I5: =IFERROR(H5,"") -> 0.15 | BB5: =('Impact score'!H59*BB43) -> 0.15
B6: Alien Vegetation | D6: =('Impact score'!D60*D44) -> 5 | E6: =IFERROR(D6,"") -> 5 | AA6: =('Impact score'!F60*AA44) -> 3 | AB6: =IFERROR(AA6,"") -> 3 | AX6: =('Impact score'!H60*AX44) -> 5 | AY6: =IFERROR(AX6,"") -> 5
B7: Riparian zone | F7: =('Impact score'!D61*F45) -> 0 | G7: =IFERROR(F7,"") -> 0 | N7: =('Impact score'!D61*N45) -> 0 | O7: =IFERROR(N7,"") -> 0 | AC7: =('Impact score'!F61*AC45) -> 0 | AD7: =IFERROR(AC7,"") -> 0 | AK7: =('Impact score'!F61*'Indicator weighting'!AK45) -> 0 | AL7: =IFERROR(AK7,"") -> 0 | AU7: =('Impact score'!F61*AU45) -> 0 | AV7: =IFERROR(AU7,"") -> 0 | AZ7: =('Impact score'!H61*AZ45) -> 0 | BA7: =IFERROR(AZ7,"") -> 0 | BH7: =('Impact score'!H61*BH45) -> 0 | BI7: =IFERROR(BH7,"") -> 0
B8: Dumping & rubble | J8: =('Impact score'!D62*J46) -> 0 | K8: =IFERROR(J8,"") -> 0 | R8: =('Impact score'!D62*R46) -> 0 | S8: =IFERROR(R8,"") -> 0 | T8: =('Impact score'!D62*T46) -> 0 | U8: =IFERROR(T8,"") -> 0 | X8: =('Impact score'!D62*X46) -> 0 | Y8: =IFERROR(X8,"") -> 0 | AG8: =('Impact score'!F62*AG46) -> 0 | AH8: =IFERROR(AG8,"") -> 0 | AO8: =('Impact score'!F62*AO46) -> 0 | AP8: =IFERROR(AO8,"") -> 0 | AQ8: =('Impact score'!F62*AQ46) -> 0 | AR8: =IFERROR(AQ8,"") -> 0 | AU8: =('Impact score'!F62*AU46) -> 0 | AV8: =IFERROR(AU8,"") -> 0 | BD8: =('Impact score'!H62*BD46) -> 0 | BE8: =IFERROR(BD8,"") -> 0 | BL8: =('Impact score'!H62*BL46) -> 0 | BM8: =IFERROR(BL8,"") -> 0 | BN8: =('Impact score'!H62*BN46) -> 0 | BO8: =IFERROR(BN8,"") -> 0 | BR8: =('Impact score'!H62*BR46) -> 0 | BS8: =IFERROR(BR8,"") -> 0
B9: Litter | L9: =('Impact score'!D63*L47) -> 0.1 | M9: =IFERROR(L9,"") -> 0.1 | AI9: =('Impact score'!F63*AI47) -> 0.1 | AJ9: =IFERROR(AI9,"") -> 0.1 | BF9: =('Impact score'!H63*BF47) -> 0 | BG9: =IFERROR(BF9,"") -> 0
A10: Geomorphology | B10: Macro channel | H10: =('Impact score'!D64*H48) -> 0.9 | I10: =IFERROR(H10,"") -> 0.9 | K10: =IFERROR(J10,"") -> 0 | N10: =('Impact score'!D64*N48) -> 0.6 | O10: =IFERROR(N10,"") -> 0.6 | X10: =('Impact score'!D64*X48) -> 0.6 | Y10: =IFERROR(X10,"") -> 0.6 | BB10: =('Impact score'!H64*BB48) -> 0.9 | BC10: =IFERROR(BB10,"") -> 0.9 | BE10: =IFERROR(BD10,"") -> 0 | BH10: =('Impact score'!H64*BH48) -> 0.6 | BI10: =IFERROR(BH10,"") -> 0.6 | BR10: =('Impact score'!H64*BR48) -> 0.6 | BS10: =IFERROR(BR10,"") -> 0.6
B11: extenet cut banks | H11: =('Impact score'!D65*H49) -> 0.6 | I11: =IFERROR(H11,"") -> 0.6 | K11: =IFERROR(J11,"") -> 0 | N11: =('Impact score'!D65*N49) -> 0.2 | O11: =IFERROR(N11,"") -> 0.2 | X11: =('Impact score'!D65*X49) -> 0.2 | Y11: =IFERROR(X11,"") -> 0.2 | BB11: =('Impact score'!H65*BB49) -> 0.6 | BC11: =IFERROR(BB11,"") -> 0.6 | BE11: =IFERROR(BD11,"") -> 0 | BH11: =('Impact score'!H65*BH49) -> 0.2 | BI11: =IFERROR(BH11,"") -> 0.2 | BR11: =('Impact score'!H65*BR49) -> 0.2 | BS11: =IFERROR(BR11,"") -> 0.2
B12: bank armouring | J12: =('Impact score'!D66*J50) -> 0 | K12: =IFERROR(J12,"") -> 0 | N12: =('Impact score'!D66*N50) -> 0 | O12: =IFERROR(N12,"") -> 0 | X12: =('Impact score'!D66*X50) -> 0 | Y12: =IFERROR(X12,"") -> 0 | BD12: =('Impact score'!H66*BD50) -> 0.4 | BE12: =IFERROR(BD12,"") -> 0.4 | BH12: =('Impact score'!H66*BH50) -> 0.6 | BI12: =IFERROR(BH12,"") -> 0.6 | BR12: =('Impact score'!H66*BR50) -> 0.2 | BS12: =IFERROR(BR12,"") -> 0.2
B13: bed erosion | AE13: =('Impact score'!F67*AE51) -> 4 | AF13: =IFERROR(AE13,"") -> 4 | AK13: =('Impact score'!F67*AK51) -> 4 | AL13: =IFERROR(AK13,"") -> 4 | AU13: =('Impact score'!F67*AU51) -> 1.5 | AV13: =IFERROR(AU13,"") -> 1.5
A14: Hydrology | B14: discharge outlet | L14: =('Impact score'!D68*L52) -> 0 | M14: =IFERROR(L14,"") -> 0 | N14: =('Impact score'!D68*N52) -> 0 | O14: =IFERROR(N14,"") -> 0 | BF14: =('Impact score'!H68*BF52) -> 0 | BG14: =IFERROR(BF14,"") -> 0 | BH14: =('Impact score'!H68*BH52) -> 0 | BI14: =IFERROR(BH14,"") -> 0
B15: canalisation | J15: =('Impact score'!D69*J53) -> 0.4 | K15: =IFERROR(J15,"") -> 0.4 | N15: =('Impact score'!D69*N53) -> 0.2 | O15: =IFERROR(N15,"") -> 0.2 | T15: =('Impact score'!D69*T53) -> 0.7 | U15: =IFERROR(T15,"") -> 0.7 | X15: =('Impact score'!D69*X53) -> 0.6 | Y15: =IFERROR(X15,"") -> 0.6 | AQ15: =('Impact score'!F69*AQ53) -> 0 | AR15: =IFERROR(AQ15,"") -> 0 | AU15: =('Impact score'!F69*AU53) -> 0 | AV15: =IFERROR(AU15,"") -> 0 | BD15: =('Impact score'!H69*BD53) -> 0 | BE15: =IFERROR(BD15,"") -> 0 | BH15: =('Impact score'!H69*BH53) -> 0 | BI15: =IFERROR(BH15,"") -> 0 | BN15: =('Impact score'!H69*BN53) -> 0 | BO15: =IFERROR(BN15,"") -> 0 | BR15: =('Impact score'!H69*BR53) -> 0 | BS15: =IFERROR(BR15,"") -> 0
B16: Levees | J16: =('Impact score'!D70*J54) -> 0 | K16: =IFERROR(J16,"") -> 0 | N16: =('Impact score'!D70*N54) -> 0 | O16: =IFERROR(N16,"") -> 0 | T16: =('Impact score'!D70*T54) -> 0 | U16: =IFERROR(T16,"") -> 0 | V16: =('Impact score'!D70*V54) -> 0 | W16: =IFERROR(V16,"") -> 0 | X16: =('Impact score'!D70*X54) -> 0 | Y16: =IFERROR(X16,"") -> 0 | BD16: =('Impact score'!H70*BD54) -> 0 | BE16: =IFERROR(BD16,"") -> 0 | BH16: =('Impact score'!H70*BH54) -> 0 | BI16: =IFERROR(BH16,"") -> 0 | BN16: =('Impact score'!H70*BN54) -> 0 | BO16: =IFERROR(BN16,"") -> 0 | BP16: =('Impact score'!H70*BP54) -> 0 | BQ16: =IFERROR(BP16,"") -> 0 | BR16: =('Impact score'!H70*BR54) -> 0 | BS16: =IFERROR(BR16,"") -> 0
B17: abstraction | AM17: =('Impact score'!F71*AM55) -> 0 | AN17: =IFERROR(AM17,"") -> 0 | AQ17: =('Impact score'!F71*AQ55) -> 0 | AR17: =IFERROR(AQ17,"") -> 0
B18: impoundments | J18: =('Impact score'!D72*J56) -> 0 | K18: =IFERROR(J18,"") -> 0 | R18: =('Impact score'!D72*R56) -> 0 | S18: =IFERROR(R18,"") -> 0 | T18: =('Impact score'!D72*T56) -> 0 | U18: =IFERROR(T18,"") -> 0 | V18: =('Impact score'!D72*V56) -> 0 | W18: =IFERROR(V18,"") -> 0 | AG18: =('Impact score'!F72*AG56) -> 0 | AH18: =IFERROR(AG18,"") -> 0 | AO18: =('Impact score'!F72*AO56) -> 0 | AP18: =IFERROR(AO18,"") -> 0 | AQ18: =('Impact score'!F72*AQ56) -> 0 | AR18: =IFERROR(AQ18,"") -> 0 | AS18: =('Impact score'!F72*AS56) -> 0 | AT18: =IFERROR(AS18,"") -> 0 | BD18: =('Impact score'!H72*BD56) -> 0 | BE18: =IFERROR(BD18,"") -> 0 | BL18: =('Impact score'!H72*BL56) -> 0 | BM18: =IFERROR(BL18,"") -> 0 | BN18: =('Impact score'!H72*BN56) -> 0 | BO18: =IFERROR(BN18,"") -> 0 | BP18: =('Impact score'!H72*BP56) -> 0 | BQ18: =IFERROR(BP18,"") -> 0
B19: culverts/bridges | J19: =('Impact score'!D73*J57) -> 0.2 | K19: =IFERROR(J19,"") -> 0.2 | R19: =('Impact score'!D73*R57) -> 0.4 | S19: =IFERROR(R19,"") -> 0.4 | T19: =('Impact score'!D73*T57) -> 0.4 | U19: =IFERROR(T19,"") -> 0.4 | V19: =('Impact score'!D73*V57) -> 3.2 | W19: =IFERROR(V19,"") -> 3.2 | X19: =('Impact score'!D73*X57) -> 0.4 | Y19: =IFERROR(X19,"") -> 0.4 | AG19: =('Impact score'!F73*'Indicator weighting'!AG57) -> 0.4 | AH19: =IFERROR(AG19,"") -> 0.4 | AO19: =('Impact score'!F73*AO57) -> 0.4 | AP19: =IFERROR(AO19,"") -> 0.4 | AQ19: =('Impact score'!F73*AQ57) -> 0.4 | AR19: =IFERROR(AQ19,"") -> 0.4 | AS19: =('Impact score'!F73*AS57) -> 3.6 | AT19: =IFERROR(AS19,"") -> 3.6 | AU19: =('Impact score'!F73*AU57) -> 0.4 | AV19: =IFERROR(AU19,"") -> 0.4 | BD19: =('Impact score'!H73*BD57) -> 0.2 | BE19: =IFERROR(BD19,"") -> 0.2 | BL19: =('Impact score'!H73*BL57) -> 0.4 | BM19: =IFERROR(BL19,"") -> 0.4 | BN19: =('Impact score'!H73*BN57) -> 0.4 | BO19: =IFERROR(BN19,"") -> 0.4 | BP19: =('Impact score'!H73*BP57) -> 3.2 | BQ19: =IFERROR(BP19,"") -> 3.2 | BR19: =('Impact score'!H73*BR57) -> 0.4 | BS19: =IFERROR(BR19,"") -> 0.4
B20: flood debris | H20: =('Impact score'!D74*H58) -> 0.1 | I20: =IFERROR(H20,"") -> 0.1 | T20: =('Impact score'!D74*T58) -> 0.05 | U20: =IFERROR(T20,"") -> 0.05 | AE20: =('Impact score'!F74*AE58) -> 0.2 | AF20: =IFERROR(AE20,"") -> 0.2 | AG20: =('Impact score'!F74*'Indicator weighting'!AG58) -> 0.1 | AH20: =IFERROR(AG20,"") -> 0.1 | AQ20: =('Impact score'!F74*AQ58) -> 0.2 | AR20: =IFERROR(AQ20,"") -> 0.2 | BB20: =('Impact score'!H74*BB58) -> 0.1 | BC20: =IFERROR(BB20,"") -> 0.1 | BN20: =('Impact score'!H74*BN58) -> 0.1 | BO20: =IFERROR(BN20,"") -> 0.1
A21: Water Quality | B21: colour | AI21: =('Impact score'!F75*AI59) -> 0 | AJ21: =IFERROR(AI21,"") -> 0
B22: odour | AI22: =('Impact score'!F76*AI60) -> 0 | AJ22: =IFERROR(AI22,"") -> 0
B23: clarity: observed | AI23: =('Impact score'!F77*AI61) -> 0 | AJ23: =IFERROR(AI23,"") -> 0
B24: temperature | AC24: =('Impact score'!F78*AC62) -> 0 | AD24: =IFERROR(AC24,"") -> 0 | AI24: =('Impact score'!F78*AI62) -> 0 | AJ24: =IFERROR(AI24,"") -> 0
B25: foam | AI25: =('Impact score'!F79*AI63) -> 0 | AJ25: =IFERROR(AI25,"") -> 0
B26: Ph | AI26: =('Impact score'!F80*AI64) -> 0 | AJ26: =IFERROR(AI26,"") -> 0
B27: oily sheen | AI27: =('Impact score'!F81*AI65) -> 0 | AJ27: =IFERROR(AI27,"") -> 0
B28: nutrients | AI28: =('Impact score'!F82*AI66) -> 0.1 | AJ28: =IFERROR(AI28,"") -> 0.1
B29: oxygen | AI29: =('Impact score'!F83*AI67) -> 0 | AJ29: =IFERROR(AI29,"") -> 0
B30: indication of life | AI30: =('Impact score'!F84*AI68) -> 0.3 | AJ30: =IFERROR(AI30,"") -> 0.3
A31: Discharge | B31: colour | L31: =IFERROR('Impact score'!D85*L69,"") | M31: =IFERROR(L31,"") | BF31: =IFERROR('Impact score'!H85*BF69," ") | BG31: =IFERROR(BF31,"")
B32: odour | L32: =IFERROR('Impact score'!D86*L70,"") | M32: =IFERROR(L32,"") | BF32: =IFERROR('Impact score'!H86*BF70," ") | BG32: =IFERROR(BF32,"")
B33: foam | L33: =IFERROR('Impact score'!D87*L71,"") | M33: =IFERROR(L33,"") | BF33: =IFERROR('Impact score'!H87*BF71," ") | BG33: =IFERROR(BF33,"")
B34: oily sheen | L34: =IFERROR('Impact score'!D88*L72,"") | M34: =IFERROR(L34,"") | BF34: =IFERROR('Impact score'!H88*BF72," ") | BG34: =IFERROR(BF34,"")
B35: p.H | L35: =IFERROR('Impact score'!D89*L73,"") | M35: =IFERROR(L35,"") | BF35: =IFERROR('Impact score'!H89*BF73," ") | BG35: =IFERROR(BF35,"")
B36: temperature | L36: =IFERROR('Impact score'!D90*L74,"") | M36: =IFERROR(L36,"") | BF36: =IFERROR('Impact score'!H90*BF74," ") | BG36: =IFERROR(BF36,"")
C37: Total score | D37: =SUM(D4:D36) -> 5 | E37: =SUM(E4:E36) -> 5 | F37: =SUM(F4:F36) -> 0 | G37: =SUM(G4:G36) -> 0 | H37: =SUM(H4:H36) -> 1.75 | I37: =SUM(I4:I36) -> 1.75 | J37: =SUM(J4:J36) -> 0.6 | K37: =SUM(K4:K36) -> 0.6 | ... Y37: =SUM(Y4:Y36) -> 1.8 | AA37: =SUM(AA4:AA36) -> 3 | AB37: =SUM(AB4:AB36) -> 3 | AC37: =SUM(AC4:AC36) -> 0 | AD37: =SUM(AD4:AD36) -> 0 | AE37: =SUM(AE4:AE36) -> 4.2 | AF37: =SUM(AF4:AF36) -> 4.2 | AG37: =SUM(AG4:AG36) -> 0.5 | AH37: =SUM(AH4:AH36) -> 0.5 | ... AV37: =SUM(AV4:AV36) -> 1.9 | AX37: =SUM(AX4:AX36) -> 5 | AY37: =SUM(AY4:AY36) -> 5 | AZ37: =SUM(AZ4:AZ36) -> 0 | BA37: =SUM(BA4:BA36) -> 0 | BB37: =SUM(BB4:BB36) -> 1.75 | BC37: =SUM(BC4:BC36) -> 1.6 | BD37: =SUM(BD4:BD36) -> 0.6 | BE37: =SUM(BE4:BE36) -> 0.6 | ... BS37: =SUM(BS4:BS36) -> 1.4
C38: No. indicators | D38: =COUNT(D4:D36) -> 1 | E38: =COUNT(E4:E36) -> 1 | F38: =COUNT(F4:F36) -> 2 | G38: =COUNT(G4:G36) -> 2 | H38: =COUNT(H4:H36) -> 5 | I38: =COUNT(I4:I36) -> 5 | J38: =COUNT(J4:J36) -> 6 | K38: =COUNT(K4:K36) -> 8 | ... Y38: =COUNT(Y4:Y36) -> 8 | AA38: =COUNT(AA4:AA36) -> 1 | AB38: =COUNT(AB4:AB36) -> 1 | AC38: =COUNT(AC4:AC36) -> 2 | AD38: =COUNT(AD4:AD36) -> 2 | AE38: =COUNT(AE4:AE36) -> 2 | AF38: =COUNT(AF4:AF36) -> 2 | AG38: =COUNT(AG4:AG36) -> 4 | AH38: =COUNT(AH4:AH36) -> 4 | ... AV38: =COUNT(AV4:AV36) -> 5 | AX38: =COUNT(AX4:AX36) -> 1 | AY38: =COUNT(AY4:AY36) -> 1 | AZ38: =COUNT(AZ4:AZ36) -> 2 | BA38: =COUNT(BA4:BA36) -> 2 | BB38: =COUNT(BB4:BB36) -> 5 | BC38: =COUNT(BC4:BC36) -> 4 | BD38: =COUNT(BD4:BD36) -> 7 | BE38: =COUNT(BE4:BE36) -> 8 | ... BS38: =COUNT(BS4:BS36) -> 7
A40: Indicator-Weighting | D40: Flood Zone / bank | AA40: Active Channel | AX40: Flood Zone / bank
D41: Woody alien vegetation infestation | F41: Vegetation / site clearing | H41: Excavation /erosion | J41: Infilling / encroachment / impeding | L41: Discharge | N41: Bank stabilising | P41: Abstraction | R41: Impoundments | T41: Diverting | V41: Structures | X41: Canalising / levess | AA41: Woody alien vegetation infestation | AC41: Vegetation / site clearing | AE41: Excavation /erosion | AG41: Infilling / encroachment / impeding | AI41: Discharge | AK41: Bank stabilising | AM41: Abstraction | AO41: Impoundments | AQ41: Diverting | AS41: Structures | AU41: Canalising / levess | AX41: Woody alien vegetation infestation | AZ41: Vegetation / site clearing | BB41: Excavation /erosion | BD41: Infilling / encroachment / impeding | BF41: Discharge | BH41: Bank stabilising | BJ41: Abstraction | BL41: Impoundments | BN41: Diverting | BP41: Structures | BR41: Canalising / levess
A42: Site | B42: Ground cover | F42: 0.8 | H42: 0.2 | N42: 0.1 | AZ42: 0.8 | BB42: 0.2 | BH42: 0.1
B43: Erosion on site | H43: 0.1 | BB43: 0.1
B44: Alien vegetation infestation | D44: 1 | AA44: 1 | AX44: 1
B45: Riparian zone | F45: 0.2 | N45: 0.1 | AC45: 0.2 | AK45: 0.2 | AU45: 0.2 | AZ45: 0.2 | BH45: 0.1
B46: Dumping & rubble | J46: 0.3 | R46: 0.1 | T46: 0.2 | X46: 0.1 | AG46: 0.6 | AO46: 0.1 | AQ46: 0.2 | AU46: 0.1 | BD46: 0.3 | BL46: 0.1 | BN46: 0.1 | BR46: 0.1
B47: Litter | L47: 0.1 | AI47: 0.1 | AJ47: 0.1 | BF47: 0.1
A48: Geomorphology | B48: Macro channel | H48: 0.3 | N48: 0.2 | X48: 0.2 | BB48: 0.3 | BH48: 0.2 | BR48: 0.2
B49: Extent cut banks | H49: 0.3 | N49: 0.1 | X49: 0.1 | BB49: 0.3 | BH49: 0.1 | BR49: 0.1
B50: Bank Armouring | J50: 0.2 | N50: 0.3 | X50: 0.1 | BD50: 0.2 | BH50: 0.3 | BR50: 0.1
B51: Bed erosion | AE51: 0.8 | AK51: 0.8 | AU51: 0.3
A52: Hydrology | B52: Discharge outlet | L52: 0.1 | N52: 0.05 | BF52: 0.1 | BH52: 0.05
B53: Canalisation/ chanelling | J53: 0.2 | N53: 0.1 | T53: 0.35 | X53: 0.3 | AQ53: 0.2 | AU53: 0.3 | BD53: 0.2 | BH53: 0.1 | BN53: 0.4 | BR53: 0.3
B54: Levees | J54: 0.2 | N54: 0.05 | T54: 0.2 | V54: 0.1 | X54: 0.1 | BD54: 0.2 | BH54: 0.05 | BN54: 0.2 | BP54: 0.1 | BR54: 0.1
B55: abstraction | AM55: 1 | AQ55: 0.1
B56: impoundments | J56: 0.05 | R56: 0.8 | T56: 0.1 | V56: 0.1 | AG56: 0.2 | AO56: 0.8 | AQ56: 0.2 | AS56: 0.1 | BD56: 0.05 | BL56: 0.8 | BN56: 0.1 | BP56: 0.1
B57: culverts/bridges | J57: 0.05 | R57: 0.1 | T57: 0.1 | V57: 0.8 | X57: 0.1 | AG57: 0.1 | AO57: 0.1 | AQ57: 0.1 | AS57: 0.9 | AU57: 0.1 | BD57: 0.05 | BL57: 0.1 | BN57: 0.1 | BP57: 0.8 | BR57: 0.1
B58: flood debris | H58: 0.1 | T58: 0.05 | AE58: 0.2 | AG58: 0.1 | AQ58: 0.2 | BB58: 0.1 | BN58: 0.1
A59: Water Quality | B59: colour | AI59: 0.05 | AJ59: 0.05
B60: odour | AI60: 0.1 | AJ60: 0.1
B61: clarity: observed | AI61: 0.1 | AJ61: 0.1
B62: temperature | AC62: 0.8 | AI62: 0.05 | AJ62: 0.05
B63: foam | AI63: 0.1 | AJ63: 0.1
B64: Ph | AI64: 0.2 | AJ64: 0.2
B65: oily sheen | AI65: 0.05 | AJ65: 0.05
B66: nutrients | AI66: 0.1 | AJ66: 0.1
B67: oxygen | AI67: 0.05 | AJ67: 0.05
B68: indication of life | AI68: 0.1 | AJ68: 0.1
A69: Discharge | B69: colour | L69: 0.1 | BF69: 0.1
B70: odour | L70: 0.2 | BF70: 0.2
B71: foam | L71: 0.1 | BF71: 0.1
B72: oily sheen | L72: 0.1 | BF72: 0.1
B73: p.H | L73: 0.2 | BF73: 0.2
B74: temperature | L74: 0.1 | BF74: 0.1
B75: Total Score | D75: =SUM(D42:D74) -> 1 | F75: =SUM(F42:F74) -> 1 | H75: =SUM(H42:H74) -> 1 | J75: =SUM(J42:J74) -> 1 | L75: =SUM(L42:L74) -> 1 | N75: =SUM(N42:N74) -> 1 | P75: =SUM(P42:P74) -> 0 | R75: =SUM(R42:R74) -> 1 | T75: =SUM(T42:T74) -> 1 | V75: =SUM(V42:V74) -> 1 | X75: =SUM(X42:X74) -> 1 | AA75: =SUM(AA42:AA74) -> 1 | AC75: =SUM(AC42:AC74) -> 1 | AE75: =SUM(AE42:AE74) -> 1 | AG75: =SUM(AG42:AG74) -> 1 | AI75: =SUM(AI42:AI74) -> 1 | AJ75: =SUM(AJ42:AJ74) -> 1 | AK75: =SUM(AK42:AK74) -> 1 | AM75: =SUM(AM42:AM74) -> 1 | AO75: =SUM(AO42:AO74) -> 1 | AQ75: =SUM(AQ42:AQ74) -> 1 | AS75: =SUM(AS42:AS74) -> 1 | AU75: =SUM(AU42:AU74) -> 1 | AX75: =SUM(AX42:AX74) -> 1 | AZ75: =SUM(AZ42:AZ74) -> 1 | BB75: =SUM(BB42:BB74) -> 1 | BD75: =SUM(BD42:BD74) -> 1 | BF75: =SUM(BF42:BF74) -> 1 | BH75: =SUM(BH42:BH74) -> 1 | BJ75: =SUM(BJ42:BJ74) -> 0 | BL75: =SUM(BL42:BL74) -> 1 | BN75: =SUM(BN42:BN74) -> 1 | BP75: =SUM(BP42:BP74) -> 1 | BR75: =SUM(BR42:BR74) -> 1
B76: Total possible score | D76: 5 | F76: 5 | H76: 20 | J76: 30 | L76: 45 | N76: 40 | P76: 0 | R76: 15 | T76: 25 | V76: 5 | X76: 30 | AA76: 5 | AC76: 5 | AE76: 10 | AG76: 15 | AI76: 65 | AJ76: 65 | AK76: 10 | AM76: 5 | AO76: 20 | AQ76: 25 | AS76: 5 | AU76: 20 | AX76: 5 | AZ76: 5 | BB76: 20 | BD76: 30 | BF76: 45 | BH76: 40 | BJ76: 0 | BL76: 15 | BN76: 25 | BP76: 5 | BR76: 30
BD78: `

Sheet Function weighting
D1: Services | E1: Impact activities | F1: Woody alien vegetation infestation | G1: Vegetation / Site clearing (creation of lawns) | H1: Excavation and erosion | I1: Infilling, impeding and encroachment | J1: Discharge | K1: Bank stabilising | L1: Abstraction | M1: Impoundments (and decreased sediment loads) | N1: Diverting | O1: Structures Bridges, jetties, etc.) | P1: Canalising and levees | R1: Total
C2: Left Flood zone | D2: Flood attenuation | F2: =F29/100*'Indicator weighting'!E$37 -> 1 | G2: =G29/100*'Indicator weighting'!G$37 -> 0 | H2: =H29/100*'Indicator weighting'!I$37 -> -0.35 | I2: =I29/100*'Indicator weighting'!K$37 -> -0.09 | J2: =J29/100*'Indicator weighting'!M$37 -> 0 | K2: =K29/100*'Indicator weighting'!O$37 -> -0.1 | L2: =L29/100*'Indicator weighting'!Q$37 -> 0 | M2: =M29/100*'Indicator weighting'!S$37 -> 0.12 | N2: =N29/100*'Indicator weighting'!U$37 -> 0 | O2: =O29/100*'Indicator weighting'!W$37 -> 0.32 | P2: =P29/100*'Indicator weighting'!Y$37 -> -0.36 | R2: =SUMIF(F2:P2,"<0") -> -0.9 | T2: 0
D3: Sediment trapping | F3: =F30/100*'Indicator weighting'!E$37 -> 1 | G3: =G30/100*'Indicator weighting'!G$37 -> 0 | H3: =H30/100*'Indicator weighting'!I$37 -> -0.35 | I3: =I30/100*'Indicator weighting'!K$37 -> -0.09 | J3: =J30/100*'Indicator weighting'!M$37 -> 0 | K3: =K30/100*'Indicator weighting'!O$37 -> -0.1 | L3: =L30/100*'Indicator weighting'!Q$37 -> 0 | M3: =M30/100*'Indicator weighting'!S$37 -> 0.12 | N3: =N30/100*'Indicator weighting'!U$37 -> 0 | O3: =O30/100*'Indicator weighting'!W$37 -> 0.32 | P3: =P30/100*'Indicator weighting'!Y$37 -> -0.36 | R3: =SUMIF(F3:P3,"<0") -> -0.9 | T3: 0
D4: Habitat provision | F4: =F31/100*'Indicator weighting'!E$37 -> -1 | G4: =G31/100*'Indicator weighting'!G$37 -> 0 | H4: =H31/100*'Indicator weighting'!I$37 -> -0.35 | I4: =I31/100*'Indicator weighting'!K$37 -> -0.12 | J4: =J31/100*'Indicator weighting'!M$37 -> 0 | K4: =K31/100*'Indicator weighting'!O$37 -> -0.1 | L4: =L31/100*'Indicator weighting'!Q$37 -> 0 | M4: =M31/100*'Indicator weighting'!S$37 -> -0.08 | N4: =N31/100*'Indicator weighting'!U$37 -> -0.115 | O4: =O31/100*'Indicator weighting'!W$37 -> -0.32 | P4: =P31/100*'Indicator weighting'!Y$37 -> -0.36 | R4: =SUMIF(F4:P4,"<0") -> -2.445 | T4: 0
D5: Carbon storage | F5: =F33/100*'Indicator weighting'!E$37 -> -1 | G5: =G33/100*'Indicator weighting'!G$37 -> 0 | H5: =H33/100*'Indicator weighting'!I$37 -> -0.175 | I5: =I33/100*'Indicator weighting'!K$37 -> -0.06 | J5: =J33/100*'Indicator weighting'!M$37 -> 0 | K5: =K33/100*'Indicator weighting'!O$37 -> -0.1 | L5: =L33/100*'Indicator weighting'!Q$37 -> 0 | M5: =M33/100*'Indicator weighting'!S$37 -> 0.04 | N5: =N33/100*'Indicator weighting'!U$37 -> 0 | O5: =O33/100*'Indicator weighting'!W$37 -> 0 | P5: =P33/100*'Indicator weighting'!Y$37 -> -0.18 | R5: =SUMIF(F5:P5,"<0") -> -1.515 | T5: 0
D6: Water Quality | J6: =J32/100*'Indicator weighting'!M$37 -> 0 | R6: =SUMIF(F6:P6,"<0") -> 0 | T6: 0
D7: Aesthetic/recreational use | F7: =F34/100*'Indicator weighting'!E$37 -> -1 | G7: =G34/100*'Indicator weighting'!G$37 -> 0 | H7: =H34/100*'Indicator weighting'!I$37 -> -0.175 | I7: =I34/100*'Indicator weighting'!K$37 -> 0.06 | J7: =J34/100*'Indicator weighting'!M$37 -> 0 | K7: =K34/100*'Indicator weighting'!O$37 -> 0.1 | L7: =L34/100*'Indicator weighting'!Q$37 -> 0 | M7: =M34/100*'Indicator weighting'!S$37 -> 0.08 | N7: =N34/100*'Indicator weighting'!U$37 -> 0.115 | O7: =O34/100*'Indicator weighting'!W$37 -> 0.32 | P7: =P34/100*'Indicator weighting'!Y$37 -> 0 | R7: =SUMIF(F7:P7,"<0") -> -1.175 | T7: 0
D8: Subsistence/cultural use | F8: =F35/100*'Indicator weighting'!E$37 -> -2 | G8: =G35/100*'Indicator weighting'!G$37 -> 0 | H8: =H35/100*'Indicator weighting'!I$37 -> -0.175 | I8: =I35/100*'Indicator weighting'!K$37 -> -0.06 | J8: =J35/100*'Indicator weighting'!M$37 -> 0.02 | K8: =K35/100*'Indicator weighting'!O$37 -> 0 | L8: =L35/100*'Indicator weighting'!Q$37 -> 0 | M8: =M35/100*'Indicator weighting'!S$37 -> -0.08 | N8: =N35/100*'Indicator weighting'!U$37 -> -0.115 | O8: =O35/100*'Indicator weighting'!W$37 -> 0.32 | P8: =P35/100*'Indicator weighting'!Y$37 -> -0.18 | R8: =SUMIF(F8:P8,"<0") -> -2.61 | T8: 0
C9: Active Channel | D9: Flood attenuation | F9: =F36/100*'Indicator weighting'!AB$37 -> 0.6 | G9: =G36/100*'Indicator weighting'!AD$37 -> 0 | H9: =H36/100*'Indicator weighting'!AF$37 -> -0.84 | I9: =I36/100*'Indicator weighting'!AH$37 -> -0.05 | J9: =J36/100*'Indicator weighting'!AJ$37 -> 0 | K9: =K36/100*'Indicator weighting'!AL$37 -> -0.4 | L9: =L36/100*'Indicator weighting'!AN$37 -> 0 | M9: =M36/100*'Indicator weighting'!AP$37 -> 0.2 | N9: =N36/100*'Indicator weighting'!AR$37 -> 0 | O9: =O36/100*'Indicator weighting'!AT$37 -> 0.36 | P9: =P36/100*'Indicator weighting'!AV$37 -> -0.38 | R9: =SUMIF(F9:P9,"<0") -> -1.67 | T9: 0
D10: Sediment trapping | F10: =F37/100*'Indicator weighting'!AB$37 -> 0.6 | G10: =G37/100*'Indicator weighting'!AD$37 -> 0 | H10: =H37/100*'Indicator weighting'!AF$37 -> -0.84 | I10: =I37/100*'Indicator weighting'!AH$37 -> -0.05 | J10: =J37/100*'Indicator weighting'!AJ$37 -> 0 | K10: =K37/100*'Indicator weighting'!AL$37 -> -0.4 | L10: =L37/100*'Indicator weighting'!AN$37 -> 0 | M10: =M37/100*'Indicator weighting'!AP$37 -> 0.12 | N10: =N37/100*'Indicator weighting'!AR$37 -> 0 | O10: =O37/100*'Indicator weighting'!AT$37 -> 0.36 | P10: =P37/100*'Indicator weighting'!AV$37 -> -0.38 | R10: =SUMIF(F10:P10,"<0") -> -1.67 | T10: 0
D11: Water Quality | F11: =F38/100*'Indicator weighting'!AB$37 -> -0.3 | G11: =G38/100*'Indicator weighting'!AD$37 -> 0 | H11: =H38/100*'Indicator weighting'!AF$37 -> -0.42 | I11: =I38/100*'Indicator weighting'!AH$37 -> -0.05 | J11: =J38/100*'Indicator weighting'!AJ$37 -> -0.5 | K11: =K38/100*'Indicator weighting'!AL$37 -> 0 | L11: =L38/100*'Indicator weighting'!AN$37 -> 0 | M11: =M38/100*'Indicator weighting'!AP$37 -> -0.04 | N11: =N38/100*'Indicator weighting'!AR$37 -> 0 | O11: =O38/100*'Indicator weighting'!AT$37 -> 0 | P11: =P38/100*'Indicator weighting'!AV$37 -> 0 | R11: =SUMIF(F11:P11,"<0") -> -1.31 | T11: 0
D12: Aquatic habitat provision | F12: =F39/100*'Indicator weighting'!AB$37 -> -0.6 | G12: =G39/100*'Indicator weighting'!AD$37 -> 0 | H12: =H39/100*'Indicator weighting'!AF$37 -> -0.84 | I12: =I39/100*'Indicator weighting'!AH$37 -> -0.1 | J12: =J39/100*'Indicator weighting'!AJ$37 -> -0.1 | K12: =K39/100*'Indicator weighting'!AL$37 -> -0.4 | L12: =L39/100*'Indicator weighting'!AN$37 -> 0 | M12: =M39/100*'Indicator weighting'!AP$37 -> -0.2 | N12: =N39/100*'Indicator weighting'!AR$37 -> -0.06 | O12: =O39/100*'Indicator weighting'!AT$37 -> -0.36 | P12: =P39/100*'Indicator weighting'!AV$37 -> -0.38 | R12: =SUMIF(F12:P12,"<0") -> -3.04 | T12: 0
D13: Aesthetic/recreational use | F13: =F40/100*'Indicator weighting'!AB$37 -> -0.3 | G13: =G40/100*'Indicator weighting'!AD$37 -> 0 | H13: =H40/100*'Indicator weighting'!AF$37 -> -0.42 | I13: =I40/100*'Indicator weighting'!AH$37 -> -0.05 | J13: =J40/100*'Indicator weighting'!AJ$37 -> 0 | K13: =K40/100*'Indicator weighting'!AL$37 -> 0.4 | L13: =L40/100*'Indicator weighting'!AN$37 -> 0 | M13: =M40/100*'Indicator weighting'!AP$37 -> 0.08 | N13: =N40/100*'Indicator weighting'!AR$37 -> 0.06 | O13: =O40/100*'Indicator weighting'!AT$37 -> 0.72 | P13: =P40/100*'Indicator weighting'!AV$37 -> 0.19 | R13: =SUMIF(F13:P13,"<0") -> -0.77 | T13: 0
D14: Subsistence/cultural use | F14: =F41/100*'Indicator weighting'!AB$37 -> -0.3 | G14: =G41/100*'Indicator weighting'!AD$37 -> 0 | H14: =H41/100*'Indicator weighting'!AF$37 -> -0.42 | I14: =I41/100*'Indicator weighting'!AH$37 -> -0.05 | J14: =J41/100*'Indicator weighting'!AJ$37 -> -0.2 | K14: =K41/100*'Indicator weighting'!AL$37 -> -0.4 | L14: =L41/100*'Indicator weighting'!AN$37 -> 0 | M14: =M41/100*'Indicator weighting'!AP$37 -> 0.16 | N14: =N41/100*'Indicator weighting'!AR$37 -> -0.06 | O14: =O41/100*'Indicator weighting'!AT$37 -> -0.36 | P14: =P41/100*'Indicator weighting'!AV$37 -> -0.19 | R14: =SUMIF(F14:P14,"<0") -> -1.98 | T14: 0
C15: Right Flood Zone | D15: Flood attenuation | F15: =F42/100*'Indicator weighting'!AY$37 -> 1 | G15: =G42/100*'Indicator weighting'!BA$37 -> 0 | H15: =H42/100*'Indicator weighting'!BC$37 -> -0.32 | I15: =I42/100*'Indicator weighting'!BE$37 -> -0.09 | J15: =J42/100*'Indicator weighting'!BG$37 -> 0 | K15: =K42/100*'Indicator weighting'!BI$37 -> -0.14 | L15: =L42/100*'Indicator weighting'!BK$37 -> 0 | M15: =M42/100*'Indicator weighting'!BM$37 -> 0.12 | N15: =N42/100*'Indicator weighting'!BO$37 -> 0 | O15: =O42/100*'Indicator weighting'!BQ$37 -> 0.32 | P15: =P42/100*'Indicator weighting'!BS$37 -> -0.28 | R15: =SUMIF(F15:P15,"<0") -> -0.83 | T15: 0
D16: Sediment trapping | F16: =F43/100*'Indicator weighting'!AY$37 -> 1 | G16: =G43/100*'Indicator weighting'!BA$37 -> 0 | H16: =H43/100*'Indicator weighting'!BC$37 -> -0.32 | I16: =I43/100*'Indicator weighting'!BE$37 -> -0.09 | J16: =J43/100*'Indicator weighting'!BG$37 -> 0 | K16: =K43/100*'Indicator weighting'!BI$37 -> -0.14 | L16: =L43/100*'Indicator weighting'!BK$37 -> 0 | M16: =M43/100*'Indicator weighting'!BM$37 -> 0.12 | N16: =N43/100*'Indicator weighting'!BO$37 -> 0 | O16: =O43/100*'Indicator weighting'!BQ$37 -> 0.32 | P16: =P43/100*'Indicator weighting'!BS$37 -> -0.28 | R16: =SUMIF(F16:P16,"<0") -> -0.83 | T16: 0
D17: Habitat provision | F17: =F44/100*'Indicator weighting'!AY$37 -> -1 | G17: =G44/100*'Indicator weighting'!BA$37 -> 0 | H17: =H44/100*'Indicator weighting'!BC$37 -> -0.32 | I17: =I44/100*'Indicator weighting'!BE$37 -> -0.12 | J17: =J44/100*'Indicator weighting'!BG$37 -> 0 | K17: =K44/100*'Indicator weighting'!BI$37 -> -0.14 | L17: =L44/100*'Indicator weighting'!BK$37 -> 0 | M17: =M44/100*'Indicator weighting'!BM$37 -> -0.08 | N17: =N44/100*'Indicator weighting'!BO$37 -> -0.05 | O17: =O44/100*'Indicator weighting'!BQ$37 -> -0.32 | P17: =P44/100*'Indicator weighting'!BS$37 -> -0.28 | R17: =SUMIF(F17:P17,"<0") -> -2.31 | T17: 0
D18: Water quality | J18: =J45/100*'Indicator weighting'!BG$37 -> 0 | R18: =SUMIF(F18:P18,"<0") -> 0 | T18: 0
D19: Carbon storage | F19: =F46/100*'Indicator weighting'!AY$37 -> -1 | G19: =G46/100*'Indicator weighting'!BA$37 -> 0 | H19: =H46/100*'Indicator weighting'!BC$37 -> -0.16 | I19: =I46/100*'Indicator weighting'!BE$37 -> -0.06 | J19: =J46/100*'Indicator weighting'!BG$37 -> 0 | K19: =K46/100*'Indicator weighting'!BI$37 -> -0.14 | L19: =L46/100*'Indicator weighting'!BK$37 -> 0 | M19: =M46/100*'Indicator weighting'!BM$37 -> 0.04 | N19: =N46/100*'Indicator weighting'!BO$37 -> 0 | O19: =O46/100*'Indicator weighting'!BQ$37 -> 0 | P19: =P46/100*'Indicator weighting'!BS$37 -> -0.14 | R19: =SUMIF(F19:P19,"<0") -> -1.5 | T19: 0
D20: Aesthetic/recreational use | F20: =F47/100*'Indicator weighting'!AY$37 -> -1 | G20: =G47/100*'Indicator weighting'!BA$37 -> 0 | H20: =H47/100*'Indicator weighting'!BC$37 -> -0.16 | I20: =I47/100*'Indicator weighting'!BE$37 -> 0.06 | J20: =J47/100*'Indicator weighting'!BG$37 -> 0 | K20: =K47/100*'Indicator weighting'!BI$37 -> 0.14 | L20: =L47/100*'Indicator weighting'!BK$37 -> 0 | M20: =M47/100*'Indicator weighting'!BM$37 -> 0.08 | N20: =N47/100*'Indicator weighting'!BO$37 -> 0.05 | O20: =O47/100*'Indicator weighting'!BQ$37 -> 0.32 | P20: =P47/100*'Indicator weighting'!BS$37 -> 0 | R20: =SUMIF(F20:P20,"<0") -> -1.16 | T20: 0
D21: Subsistence/cultural use | F21: =F48/100*'Indicator weighting'!AY$37 -> -2 | G21: =G48/100*'Indicator weighting'!BA$37 -> 0 | H21: =H48/100*'Indicator weighting'!BC$37 -> -0.16 | I21: =I48/100*'Indicator weighting'!BE$37 -> -0.06 | J21: =J48/100*'Indicator weighting'!BG$37 -> 0 | K21: =K48/100*'Indicator weighting'!BI$37 -> 0 | L21: =L48/100*'Indicator weighting'!BK$37 -> 0 | M21: =M48/100*'Indicator weighting'!BM$37 -> -0.08 | N21: =N48/100*'Indicator weighting'!BO$37 -> -0.05 | O21: =O48/100*'Indicator weighting'!BQ$37 -> 0.32 | P21: =P48/100*'Indicator weighting'!BS$37 -> -0.14 | R21: =SUMIF(F21:P21,"<0") -> -2.49 | T21: 0
D23: Most important - weight these 2-3 times more than other indicators
C24: recreational use includes walking, fishing, rowing/canoeing, sailing, swimming but not birding.
C25: cultural use refers to use of wood for firewood, reeds for weaving
C27: Matrix 2: Relationship of activities to riverine functions | E27: Activities | F27: Alien /invasive vegetation infestation | G27: Vegetation / Site clearing (creation of lawns) | H27: Excavation and erosion | I27: Infilling, impeding and encroachment | J27: Discharge | K27: Bank stabilising | L27: Abstraction | M27: Impoundments (and decreased sediment loads) | N27: Diverting | O27: Structures Bridges, jetties, etc.) | P27: Canalising, levees and channel modification
C28: Riverine functions
C29: Left Flood zone | D29: Flood attenuation | F29: 20 | G29: -20 | H29: -20 | I29: -15 | J29: 0 | K29: -10 | L29: 0 | M29: 30 | N29: 0 | O29: 10 | P29: -20
D30: Sediment trapping | F30: 20 | G30: -20 | H30: -20 | I30: -15 | J30: 0 | K30: -10 | L30: 0 | M30: 30 | N30: 0 | O30: 10 | P30: -20
D31: Habitat provision | F31: -20 | G31: -20 | H31: -20 | I31: -20 | J31: 0 | K31: -10 | L31: 0 | M31: -20 | N31: -10 | O31: -10 | P31: -20
D32: Water Quality
D33: Carbon storage | F33: -20 | G33: -20 | H33: -10 | I33: -10 | J33: 0 | K33: -10 | L33: 0 | M33: 10 | N33: 0 | O33: 0 | P33: -10
D34: Aesthetic/recreational use | F34: -20 | G34: 20 | H34: -10 | I34: 10 | J34: 0 | K34: 10 | L34: 0 | M34: 20 | N34: 10 | O34: 10 | P34: 0
D35: Subsistence/cultural use | F35: -40 | G35: -40 | H35: -10 | I35: -10 | J35: 20 | K35: 0 | L35: 0 | M35: -20 | N35: -10 | O35: 10 | P35: -10
C36: Active Channel | D36: Flood attenuation | F36: 20 | G36: =IF(OR('Impact score'!C39="Reeds/Palmiet", 'Impact score'!C40="Reeds/Palmiet"),-20,IF(OR('Impact score'!C39="trees",'Impact score'!C40="Trees"),-10,0)) -> 0 | H36: -20 | I36: -10 | J36: 0 | K36: -10 | L36: 0 | M36: 50 | N36: 0 | O36: 10 | P36: -20
D37: Sediment trapping | F37: 20 | G37: =IF(OR('Impact score'!C39="Reeds/Palmiet", 'Impact score'!C40="Reeds/Palmiet"),-20,IF(OR('Impact score'!C39="trees",'Impact score'!C40="Trees"),-10,0)) -> 0 | H37: -20 | I37: -10 | J37: 0 | K37: -10 | L37: 0 | M37: 30 | N37: 0 | O37: 10 | P37: -20
D38: Water Quality | F38: -10 | G38: =IF(OR('Impact score'!C39="Reeds/Palmiet", 'Impact score'!C40="Reeds/Palmiet"),-10,0) -> 0 | H38: -10 | I38: -10 | J38: -100 | K38: 0 | L38: -10 | M38: -10 | N38: 0 | O38: 0 | P38: 0
D39: Aquatic habitat provision | F39: -20 | G39: =IF(OR('Impact score'!C39="Reeds/Palmiet", 'Impact score'!C40="Reeds/Palmiet"),-10,IF(OR('Impact score'!C39="trees",'Impact score'!C40="Trees"),10,0)) -> 0 | H39: -20 | I39: -20 | J39: -20 | K39: -10 | L39: -10 | M39: -50 | N39: -10 | O39: -10 | P39: -20
D40: Aesthetic/recreational use | F40: -10 | G40: 10 | H40: -10 | I40: -10 | J40: 0 | K40: 10 | L40: -10 | M40: 20 | N40: 10 | O40: 20 | P40: 10
D41: Subsistence/cultural use | F41: -10 | G41: -10 | H41: -10 | I41: -10 | J41: -40 | K41: -10 | L41: -20 | M41: 40 | N41: -10 | O41: -10 | P41: -10
C42: Right Flood Zone | D42: Flood attenuation | F42: 20 | G42: -20 | H42: -20 | I42: -15 | J42: 0 | K42: -10 | L42: 0 | M42: 30 | N42: 0 | O42: 10 | P42: -20
D43: Sediment trapping | F43: 20 | G43: -20 | H43: -20 | I43: -15 | J43: 0 | K43: -10 | L43: 0 | M43: 30 | N43: 0 | O43: 10 | P43: -20
D44: Habitat provision | F44: -20 | G44: -20 | H44: -20 | I44: -20 | J44: 0 | K44: -10 | L44: 0 | M44: -20 | N44: -10 | O44: -10 | P44: -20
D45: Water Quality
D46: Carbon storage | F46: -20 | G46: -20 | H46: -10 | I46: -10 | J46: 0 | K46: -10 | L46: 0 | M46: 10 | N46: 0 | O46: 0 | P46: -10
D47: Aesthetic/recreational use | F47: -20 | G47: 20 | H47: -10 | I47: 10 | J47: 0 | K47: 10 | L47: 0 | M47: 20 | N47: 10 | O47: 10 | P47: 0
D48: Subsistence/cultural use | F48: -40 | G48: -40 | H48: -10 | I48: -10 | J48: 20 | K48: 0 | L48: 0 | M48: -20 | N48: -10 | O48: 10 | P48: -10
C51: Graph test data sheet
F55: Flood attenuation | J55: Sediment trapping | N55: Habitat Provision | Q55: Carbon storage | U55: Water Quality | Y55: Aesthetic/ recreational | AC55: Subsistence / cultural
C57: Channelling / Levees / Channel modification | E57: =P2 -> -0.36 | F57: =P9 -> -0.38 | G57: =P15 -> -0.28 | I57: =P3 -> -0.36 | J57: =P10 -> -0.38 | K57: =P16 -> -0.28 | M57: =P4 -> -0.36 | N57: =P12 -> -0.38 | O57: =P17 -> -0.28 | Q57: =P5 -> -0.18 | R57: =P19 -> -0.14 | T57: =P6 -> 0 | U57: =P11 -> 0 | V57: =P18 -> 0 | X57: =P7 -> 0 | Y57: =P13 -> 0.19 | Z57: =P20 -> 0 | AB57: =P8 -> -0.18 | AC57: =P14 -> -0.19 | AD57: =P21 -> -0.14
C58: Structures | E58: =O2 -> 0.32 | F58: =O9 -> 0.36 | G58: =O15 -> 0.32 | I58: =O3 -> 0.32 | J58: =O10 -> 0.36 | K58: =O16 -> 0.32 | M58: =O4 -> -0.32 | N58: =O12 -> -0.36 | O58: =O17 -> -0.32 | Q58: =O5 -> 0 | R58: =O19 -> 0 | T58: =O6 -> 0 | U58: =O11 -> 0 | V58: =O18 -> 0 | X58: =O7 -> 0.32 | Y58: =O13 -> 0.72 | Z58: =O20 -> 0.32 | AB58: =O8 -> 0.32 | AC58: =O14 -> -0.36 | AD58: =O21 -> 0.32
C59: Diverting | E59: =N2 -> 0 | F59: =N9 -> 0 | G59: =N15 -> 0 | I59: =N3 -> 0 | J59: =N10 -> 0 | K59: =N16 -> 0 | M59: =N4 -> -0.115 | N59: =N12 -> -0.06 | O59: =N17 -> -0.05 | Q59: =N5 -> 0 | R59: =N19 -> 0 | T59: =N6 -> 0 | U59: =N11 -> 0 | V59: =N18 -> 0 | X59: =N7 -> 0.115 | Y59: =N13 -> 0.06 | Z59: =N20 -> 0.05 | AB59: =N8 -> -0.115 | AC59: =N14 -> -0.06 | AD59: =N21 -> -0.05
C60: Impoundment | E60: =M2 -> 0.12 | F60: =M9 -> 0.2 | G60: =M15 -> 0.12 | I60: =M3 -> 0.12 | J60: =M10 -> 0.12 | K60: =M16 -> 0.12 | M60: =M4 -> -0.08 | N60: =M12 -> -0.2 | O60: =M17 -> -0.08 | Q60: =M5 -> 0.04 | R60: =M19 -> 0.04 | T60: =M6 -> 0 | U60: =M11 -> -0.04 | V60: =M18 -> 0 | X60: =M7 -> 0.08 | Y60: =M13 -> 0.08 | Z60: =M20 -> 0.08 | AB60: =M8 -> -0.08 | AC60: =M14 -> 0.16 | AD60: =M21 -> -0.08
C61: Abstraction | E61: =L2 -> 0 | F61: =L9 -> 0 | G61: =L15 -> 0 | I61: =L3 -> 0 | J61: =L10 -> 0 | K61: =L16 -> 0 | M61: =L4 -> 0 | N61: =L12 -> 0 | O61: =L17 -> 0 | Q61: =L5 -> 0 | R61: =L19 -> 0 | T61: =L6 -> 0 | U61: =L11 -> 0 | V61: =L18 -> 0 | X61: =L7 -> 0 | Y61: =L13 -> 0 | Z61: =L20 -> 0 | AB61: =L8 -> 0 | AC61: =L14 -> 0 | AD61: =L21 -> 0
C62: Bank Stabilising | E62: =K2 -> -0.1 | F62: =K9 -> -0.4 | G62: =K15 -> -0.14 | I62: =K3 -> -0.1 | J62: =K10 -> -0.4 | K62: =K16 -> -0.14 | M62: =K4 -> -0.1 | N62: =K12 -> -0.4 | O62: =K17 -> -0.14 | Q62: =K5 -> -0.1 | R62: =K19 -> -0.14 | T62: =K6 -> 0 | U62: =K11 -> 0 | V62: =K18 -> 0 | X62: =K7 -> 0.1 | Y62: =K13 -> 0.4 | Z62: =K20 -> 0.14 | AB62: =K8 -> 0 | AC62: =K14 -> -0.4 | AD62: =J21 -> 0
C63: Discharge | E63: =J2 -> 0 | F63: =J9 -> 0 | G63: =J15 -> 0 | I63: =K3 -> -0.1 | J63: =J10 -> 0 | K63: =J16 -> 0 | M63: =J4 -> 0 | N63: =J12 -> -0.1 | O63: =J17 -> 0 | Q63: =J5 -> 0 | R63: =J19 -> 0 | T63: =J6 -> 0 | U63: =J11 -> -0.5 | V63: =J18 -> 0 | X63: =J7 -> 0 | Y63: =J13 -> 0 | Z63: =J20 -> 0 | AB63: =J8 -> 0.02 | AC63: =J14 -> -0.2 | AD63: =J21 -> 0
C64: Infilling / Impeding / Dumping | E64: =I2 -> -0.09 | F64: =I9 -> -0.05 | G64: =I15 -> -0.09 | I64: =I3 -> -0.09 | J64: =I10 -> -0.05 | K64: =I16 -> -0.09 | M64: =I4 -> -0.12 | N64: =I12 -> -0.1 | O64: =I17 -> -0.12 | Q64: =I5 -> -0.06 | R64: =I19 -> -0.06 | T64: =I6 -> 0 | U64: =I11 -> -0.05 | V64: =I18 -> 0 | X64: =I7 -> 0.06 | Y64: =I13 -> -0.05 | Z64: =I20 -> 0.06 | AB64: =I8 -> -0.06 | AC64: =I14 -> -0.05 | AD64: =I21 -> -0.06
C65: Erosion / Excavation | E65: =H2 -> -0.35 | F65: =H9 -> -0.84 | G65: =H15 -> -0.32 | I65: =H3 -> -0.35 | J65: =H10 -> -0.84 | K65: =H16 -> -0.32 | M65: =H4 -> -0.35 | N65: =H12 -> -0.84 | O65: =H17 -> -0.32 | Q65: =H5 -> -0.175 | R65: =H19 -> -0.16 | T65: =H6 -> 0 | U65: =H11 -> -0.42 | V65: =H18 -> 0 | X65: =H7 -> -0.175 | Y65: =H13 -> -0.42 | Z65: =H20 -> -0.16 | AB65: =H8 -> -0.175 | AC65: =H14 -> -0.42 | AD65: =H21 -> -0.16
C66: Site clearing | E66: =G2 -> 0 | F66: =G9 -> 0 | G66: =G15 -> 0 | I66: =G3 -> 0 | J66: =G10 -> 0 | K66: =G16 -> 0 | M66: =G4 -> 0 | N66: =G12 -> 0 | O66: =G17 -> 0 | Q66: =G5 -> 0 | R66: =G19 -> 0 | T66: =G6 -> 0 | U66: =G11 -> 0 | V66: =G18 -> 0 | X66: =G7 -> 0 | Y66: =G13 -> 0 | Z66: =G20 -> 0 | AB66: =G8 -> 0 | AC66: =G14 -> 0 | AD66: =G21 -> 0
C67: Alien infestation | E67: =F2 -> 1 | F67: =F9 -> 0.6 | G67: =F15 -> 1 | I67: =F3 -> 1 | J67: =F10 -> 0.6 | K67: =F16 -> 1 | M67: =F4 -> -1 | N67: =F12 -> -0.6 | O67: =F17 -> -1 | Q67: =F5 -> -1 | R67: =F19 -> -1 | T67: =F6 -> 0 | U67: =F11 -> -0.3 | V67: =F18 -> 0 | X67: =F7 -> -1 | Y67: =F13 -> -0.3 | Z67: =F20 -> -1 | AB67: =F8 -> -2 | AC67: =F14 -> -0.3 | AD67: =F21 -> -2
E68: LB | F68: AC | G68: RB | I68: LB | J68: AC | K68: RB | M68: LB | N68: AC | O68: RB | Q68: LB | R68: RB | T68: LB | U68: AC | V68: RB | X68: LB | Y68: AC | Z68: RB | AB68: LB | AC68: AC | AD68: RB

Sheet Dashboard
J50: ='Impact Form'!D4 -> Example Site
